BEGIN:VCALENDAR
VERSION:2.0
PRODID:-//ChamberMaster//Event Calendar 2.0//EN
METHOD:PUBLISH
X-PUBLISHED-TTL:P3D
REFRESH-INTERVAL:P3D
CALSCALE:GREGORIAN
BEGIN:VEVENT
DTSTART:20180615T220000Z
DTEND:20180616T020000Z
X-MICROSOFT-CDO-ALLDAYEVENT:FALSE
SUMMARY:Pirates at the Seashore
DESCRIPTION:Pirates at the Seashore - music\, rum cocktails\, food\, Pirate Parade\, beer and  wine.
X-ALT-DESC;FMTTYPE=text/html:<strong><span style="font-family:gisha">Pirates at the Seashore -&nbsp\;</span></strong><strong><span style="font-family:gisha">music\, rum cocktails\, food\, Pirate Parade\, beer and&nbsp\; wine.&nbsp\;</span></strong><br />\n&nbsp\;
LOCATION:Seashore Trolley Museum\, 195 Log Cabin Rd\, Kennebunkport
UID:e.1923.7213
SEQUENCE:3
DTSTAMP:20260425T143302Z
URL:https://chamber.gokennebunks.com/events/details/pirates-at-the-seashore-7213
END:VEVENT

END:VCALENDAR
