BEGIN:VCALENDAR
VERSION:2.0
PRODID:-//ChamberMaster//Event Calendar 2.0//EN
METHOD:PUBLISH
X-PUBLISHED-TTL:P3D
REFRESH-INTERVAL:P3D
CALSCALE:GREGORIAN
BEGIN:VEVENT
DTSTART:20190928T200000Z
DTEND:20190928T213000Z
X-MICROSOFT-CDO-ALLDAYEVENT:FALSE
SUMMARY:Pipe Organ & Trumpet Concert
DESCRIPTION:Christ Church of Kennebunk presents in concert on Saturday\, September 28\, at 4:00 p.m. internationally renowned musicians from Leipzig\, Germany\, pipe organist Frank Zimpel and trumpeter Alexander Pfeifer.  They will present works by Johann Sebastian Bach\, Georg Friedrich Handel\, Jean Sibelius and Philip Glass.  This will be an opportunity not to be missed.  These professional touring musicians have performed in the greatest cathedrals throughout Europe\, as well as at Harvard University and other distinguished venues across the USA.  The excellent acoustics and outstanding hybrid pipe and digital organ at Christ Church provide the perfect setting to showcase the musicians' marvelous talents. The duo has performed together for over fifteen years\, throughout Europe and America.  For more information about these brilliant musicians\, please visit their website: www.Trompete-Orgel.com.
X-ALT-DESC;FMTTYPE=text/html:Christ Church of Kennebunk presents in concert on Saturday\, September 28\, at 4:00 p.m. internationally renowned musicians from Leipzig\, Germany\, pipe organist Frank Zimpel and trumpeter Alexander Pfeifer. &nbsp\;They will present works by Johann Sebastian Bach\, Georg Friedrich Handel\, Jean Sibelius and Philip Glass.&nbsp\; This will be an opportunity not to be missed.&nbsp\; These professional touring musicians have performed in the greatest cathedrals throughout Europe\, as well as at Harvard University and other distinguished venues across the USA. &nbsp\;<span style="color:black">The excellent acoustics and outstanding hybrid pipe and digital organ at Christ Church provide the perfect setting to showcase the musicians&rsquo\; marvelous talents. </span><span style="color:black">The duo has performed together for over fifteen years\, throughout Europe and America.</span> &nbsp\;For more information about these brilliant musicians\, please visit their website: <strong><a href="http://www.trompete-orgel.com/">www.Trompete-Orgel.com</a>.</strong>
LOCATION:Vhrist Church 6 Dane St Kennebunk\, Maine
UID:e.1923.13479
SEQUENCE:3
DTSTAMP:20260424T154009Z
URL:https://chamber.gokennebunks.com/events/details/pipe-organ-trumpet-concert-13479
END:VEVENT

END:VCALENDAR
