BEGIN:VCALENDAR
VERSION:2.0
PRODID:-//ChamberMaster//Event Calendar 2.0//EN
METHOD:PUBLISH
X-PUBLISHED-TTL:P3D
REFRESH-INTERVAL:P3D
CALSCALE:GREGORIAN
BEGIN:VEVENT
DTSTART:20260401T230000Z
DTEND:20260402T010000Z
X-MICROSOFT-CDO-ALLDAYEVENT:FALSE
SUMMARY:Pink Moon Rise Gathering
DESCRIPTION:Experience the beauty of the coast under the glow of the rising Pink Moon at this special moon watch gathering. Set along the rocky shoreline\, this evening invites you to slow down\, soak in nature's magic\, and connect with others beneath the open sky. Enjoy thoughtfully themed beverages as the moon ascends over the horizon. Professional photographer Chris Becker will be on hand to offer expert guidance on capturing stunning moonlit shots\, whether you're using professional equipment or your smartphone. It's the perfect opportunity to step outside\, embrace the fresh coastal air\, and witness the wonder of the Pink Moon rising over the water. Event Includes: Themed beverage of choice: Low Moon Manhattan: Rittenhouse Rye\, Amaro Montenegro\, Dom B&B\, Carpano Classico Rosso Vermouth\, Peychaud's Bitters\, Orange Bitters. Rising Moon French 75: Creme de Viaolet\, Gin\, Lemon\, Prosecco Pink Moon Mocktail: Grenadine\, Apple Juice\, Lemon\, Egg white\, Club Soda Expert guidance from Professional Photographer\, Chris Becker
X-ALT-DESC;FMTTYPE=text/html:Experience the beauty of the coast under the glow of the rising Pink Moon at this special moon watch gathering. Set along the rocky shoreline\, this evening invites you to slow down\, soak in nature&rsquo\;s magic\, and connect with others beneath the open sky. Enjoy thoughtfully themed beverages as the moon ascends over the horizon. Professional photographer Chris Becker will be on hand to offer expert guidance on capturing stunning moonlit shots\, whether you&rsquo\;re using professional equipment or your smartphone. It&rsquo\;s the perfect opportunity to step outside\, embrace the fresh coastal air\, and witness the wonder of the Pink Moon rising over the water. Event Includes: Themed beverage of choice: Low Moon Manhattan: Rittenhouse Rye\, Amaro Montenegro\, Dom B&amp\;B\, Carpano Classico Rosso Vermouth\, Peychaud&#39\;s Bitters\, Orange Bitters. Rising Moon French 75: Creme de Viaolet\, Gin\, Lemon\, Prosecco Pink Moon Mocktail: Grenadine\, Apple Juice\, Lemon\, Egg white\, Club Soda Expert guidance from Professional Photographer\, Chris Becker
LOCATION:Cape Arundel Inn & Resort 208 Ocean Avenue Kennebunkport\, ME 04046
UID:e.1923.38964
SEQUENCE:3
DTSTAMP:20260421T220715Z
URL:https://chamber.gokennebunks.com/events/details/pink-moon-rise-gathering-38964
END:VEVENT

END:VCALENDAR
