BEGIN:VCALENDAR
VERSION:2.0
PRODID:-//ChamberMaster//Event Calendar 2.0//EN
METHOD:PUBLISH
X-PUBLISHED-TTL:P3D
REFRESH-INTERVAL:P3D
CALSCALE:GREGORIAN
BEGIN:VEVENT
DTSTART:20180303T230000Z
DTEND:20180304T020000Z
X-MICROSOFT-CDO-ALLDAYEVENT:FALSE
SUMMARY:Pierre's Table
DESCRIPTION:Imagine yourself at a long table covered in white linen\, softly flickering candles and an array of wine glasses set before you and your dinner companions. Views of the Atlantic Ocean set the mood for a perfect night of outstanding cuisine and great conversation. This is Pierre's Table.\n\nJoin Pierre Gignac\, Executive Chef of Ocean at Cape Arundel Inn & Resort\, for a special dinner. We will begin our evening at 6:00pm with a welcome cocktail reception with Chef Gignac\, followed by a three-course meal inspired by Chef Gignac's Franco-Canadian heritage and French cuisines.\n\nThree course dinner is priced at $55 per person\; excludes tax\, beverage\, and gratuity. Optional wine pairing is $20 per person.\n\n\n\nPurchase Tickets for Pierre's Table
X-ALT-DESC;FMTTYPE=text/html:<p><span style="font-family:arial\,helvetica\,sans-serif">Imagine yourself at a long table covered in white linen\, softly flickering candles and an array of wine glasses set before you and your dinner companions. Views of the Atlantic Ocean set the mood for a perfect night of outstanding cuisine and great conversation.&nbsp\;<strong><em>This is Pierre&rsquo\;s Table.</em></strong></span></p>\n\n<p><span style="font-family:arial\,helvetica\,sans-serif">Join Pierre Gignac\, Executive Chef of Ocean at Cape Arundel Inn &amp\; Resort\, for a special dinner. We will begin our evening at 6:00pm with a welcome cocktail reception with Chef Gignac\, followed by a three-course meal inspired by Chef Gignac&rsquo\;s Franco-Canadian heritage and French cuisines.</span></p>\n\n<p><span style="font-family:arial\,helvetica\,sans-serif">Three course dinner is priced at $55 per person\; excludes tax\, beverage\, and gratuity. Optional wine pairing is $20 per person.<br />\n<br />\n<a href="https://www.eventbrite.com/e/march-3-2018-pierres-table-at-ocean-at-cape-arundel-inn-resort-tickets-40041378842" rel="noopener" style="box-sizing: border-box\; color: rgb(0\, 0\, 0)\; font-family: Lato\; font-size: 16px\;" target="_blank"><span style="color:#FF0000">Purchase Tickets for Pierre&rsquo\;s Table</span></a></span></p>\n
LOCATION:Ocean at Cape Arundel Inn & Resort 208 Ocean Avenue | Kennebunkport\, ME
UID:e.1923.6989
SEQUENCE:3
DTSTAMP:20260425T193826Z
URL:https://chamber.gokennebunks.com/events/details/pierre-s-table-6989
END:VEVENT

END:VCALENDAR
