BEGIN:VCALENDAR
VERSION:2.0
PRODID:-//ChamberMaster//Event Calendar 2.0//EN
METHOD:PUBLISH
X-PUBLISHED-TTL:P3D
REFRESH-INTERVAL:P3D
CALSCALE:GREGORIAN
BEGIN:VEVENT
DTSTART:20231202T153000Z
DTEND:20231202T193000Z
X-MICROSOFT-CDO-ALLDAYEVENT:FALSE
SUMMARY:Picture Frame Ornament Decorating
DESCRIPTION:Looking for a fun activity for the whole family to enjoy? Stop by to decorate a holiday ornament craft or grab a craft kit to go! Color your own coastal themed print for your picture frame ornament or decorate the frame to fill with your own photos. Hosted by Lower Village Frameworks\, with a portion of the proceeds from the event to be donated to River Tree Arts. $10 per ornament\, while supplies last.
X-ALT-DESC;FMTTYPE=text/html:<span style="background-color:rgb(251\, 248\, 238)\; color:rgb(102\, 102\, 102)\; font-family:source sans pro\,arial\,helvetica\,nimbus sans l\,sans-serif\; font-size:18px">Looking for a fun activity for the whole family to enjoy? Stop by to decorate a holiday ornament craft or grab a craft kit to go! Color your own coastal themed print for your picture frame ornament or decorate the frame to fill with your own photos. Hosted by Lower Village Frameworks\, with a portion of the proceeds from the event to be donated to River Tree Arts. $10 per ornament\, while supplies last.</span>
LOCATION:River Tree Arts\, 35 Western Avenue\, Kennebunk.
UID:e.1923.23056
SEQUENCE:3
DTSTAMP:20260421T220715Z
URL:https://chamber.gokennebunks.com/events/details/picture-frame-ornament-decorating-23056
END:VEVENT

END:VCALENDAR
