BEGIN:VCALENDAR
VERSION:2.0
PRODID:-//ChamberMaster//Event Calendar 2.0//EN
METHOD:PUBLISH
X-PUBLISHED-TTL:P3D
REFRESH-INTERVAL:P3D
CALSCALE:GREGORIAN
BEGIN:VEVENT
DTSTART:20230815T211500Z
DTEND:20230815T231500Z
X-MICROSOFT-CDO-ALLDAYEVENT:FALSE
SUMMARY:Pick Your Own Flowers + Restore
DESCRIPTION:come unwind in the Frinklepod Farm and enjoy a relaxing afternoon of restorative yoga and flower picking. begin the afternoon feeling grounded and clear with a one hour restorative yoga class next to the garden. practitioners of all levels are welcome. bring a mat\, water\, pillows + blankets. BYO container for an arrangement to take home. scissors will be provided by the farm. pick your own flowers will run 5:15 - 6\, class will start at 6P. we recommend layers + bug spray.
X-ALT-DESC;FMTTYPE=text/html:come unwind in the Frinklepod Farm and enjoy a relaxing afternoon of restorative yoga and flower picking. begin the afternoon feeling grounded and clear with a one hour restorative yoga class next to the garden. practitioners of all levels are welcome. bring a mat\, water\, pillows + blankets. BYO container for an arrangement to take home. scissors will be provided by the farm. pick your own flowers will run 5:15 - 6\, class will start at 6P. we recommend layers + bug spray.
LOCATION:Frinklepod Farm 244 Log Cabin Rd Arundel\, ME
UID:e.1923.21914
SEQUENCE:3
DTSTAMP:20260422T033914Z
URL:https://chamber.gokennebunks.com/events/details/pick-your-own-flowers-restore-21914
END:VEVENT

END:VCALENDAR
