BEGIN:VCALENDAR
VERSION:2.0
PRODID:-//ChamberMaster//Event Calendar 2.0//EN
METHOD:PUBLISH
X-PUBLISHED-TTL:P3D
REFRESH-INTERVAL:P3D
CALSCALE:GREGORIAN
BEGIN:VEVENT
DTSTART:20230924T000000Z
DTEND:20230924T020000Z
X-MICROSOFT-CDO-ALLDAYEVENT:FALSE
SUMMARY:Piano Men - The Music of Elton & Billy
DESCRIPTION:"Piano Men   The Music of Elton and Billy" is a tribute to the amazing songs of Billy Joel and Elton John. This concert combines a four-piece pop group featuring Joe Boucher on piano and vocals playing with a string orchestra section with arrangements by Christopher Eastburn.\n\nThe music of "Piano Men" concentrates heavily on the recordings by Elton and Billy during their 70's heyday when their many hit albums featured lush orchestrations. The concert opens with Billy Joel's thrilling "Prelude / Angry Young Man" and works its way through a veritable hit parade alternating songs between the two composers.
X-ALT-DESC;FMTTYPE=text/html:<div>&ldquo\;Piano Men &ndash\; The Music of Elton and Billy&rdquo\; is a tribute to the amazing songs of Billy Joel and Elton John. This concert combines a four-piece pop group featuring Joe Boucher on piano and vocals playing with a string orchestra section with arrangements by Christopher Eastburn.</div>\n\n<div>The music of &ldquo\;Piano Men&rdquo\; concentrates heavily on the recordings by Elton and Billy during their 70&rsquo\;s heyday when their many hit albums featured lush orchestrations. The concert opens with Billy Joel&rsquo\;s thrilling &ldquo\;Prelude / Angry Young Man&rdquo\; and works its way through a veritable hit parade alternating songs between the two composers.</div>\n
LOCATION:Vinegar Hill Music Theatre 53 Old Post Road Arundel\, Maine 04046 Tel: 207-985-5552
UID:e.1923.18414
SEQUENCE:3
DTSTAMP:20260422T034257Z
URL:https://chamber.gokennebunks.com/events/details/piano-men-the-music-of-elton-billy-09-23-2023-18414
END:VEVENT

END:VCALENDAR
