BEGIN:VCALENDAR
VERSION:2.0
PRODID:-//ChamberMaster//Event Calendar 2.0//EN
METHOD:PUBLISH
X-PUBLISHED-TTL:P3D
REFRESH-INTERVAL:P3D
CALSCALE:GREGORIAN
BEGIN:VEVENT
DTSTART:20180825T000000Z
DTEND:20180825T020000Z
X-MICROSOFT-CDO-ALLDAYEVENT:FALSE
SUMMARY:Piano Men
DESCRIPTION:?Piano Men ? The Music of Elton and Billy? is a tribute to the amazing songs of Billy Joel and Elton John. This concert combines a four piece pop group featuring Joe Boucher on piano and vocals playing with a full symphony orchestra with arrangements by Christopher Eastburn. Rarely have these songs ever been heard performed live in this way as Elton and Billy themselves have only on a few occasions performed with orchestras.
X-ALT-DESC;FMTTYPE=text/html:?Piano Men ? The Music of Elton and Billy? is a tribute to the amazing songs of Billy Joel and Elton John. This concert combines a four piece pop group featuring Joe Boucher on piano and vocals playing with a full symphony orchestra with arrangements by Christopher Eastburn. Rarely have these songs ever been heard performed live in this way as Elton and Billy themselves have only on a few occasions performed with orchestras.
LOCATION:Vinegar Hill Music Theatre 53 Old Post Rd. Arundel\, ME 04046
UID:e.1923.7180
SEQUENCE:3
DTSTAMP:20260425T103724Z
URL:https://chamber.gokennebunks.com/events/details/piano-men-7180
END:VEVENT

END:VCALENDAR
