BEGIN:VCALENDAR
VERSION:2.0
PRODID:-//ChamberMaster//Event Calendar 2.0//EN
METHOD:PUBLISH
X-PUBLISHED-TTL:P3D
REFRESH-INTERVAL:P3D
CALSCALE:GREGORIAN
BEGIN:VEVENT
DTSTART:20190929T000000Z
DTEND:20190929T023000Z
X-MICROSOFT-CDO-ALLDAYEVENT:FALSE
SUMMARY:Piano Men
DESCRIPTION:"Piano Men   The Music of Elton and Billy" is a tribute to the amazing songs of Billy Joel and Elton John. This concert combines a four-piece pop group featuring Joe Boucher on piano and vocals playing with a string orchestra section with arrangements by Christopher Eastburn. Rarely have these songs ever been heard performed live in this way as Elton and Billy themselves have only on a few occasions performed with orchestras. The music of "Piano Men" concentrates heavily on the recordings by Elton and Billy during their 70's heyday when their many hit albums featured lush orchestrations. The concert opens with Billy Joel's thrilling "Prelude / Angry Young Man" and works it's way through a veritable hit parade alternating songs between the two composers.
X-ALT-DESC;FMTTYPE=text/html:&ldquo\;Piano Men &ndash\; The Music of Elton and Billy&rdquo\; is a tribute to the amazing songs of Billy Joel and Elton John. This concert combines a four-piece pop group featuring Joe Boucher on piano and vocals playing with a string orchestra section with arrangements by Christopher Eastburn. Rarely have these songs ever been heard performed live in this way as Elton and Billy themselves have only on a few occasions performed with orchestras. The music of &ldquo\;Piano Men&rdquo\; concentrates heavily on the recordings by Elton and Billy during their 70&rsquo\;s heyday when their many hit albums featured lush orchestrations. The concert opens with Billy Joel&rsquo\;s thrilling &ldquo\;Prelude / Angry Young Man&rdquo\; and works it&rsquo\;s way through a veritable hit parade alternating songs between the two composers.
LOCATION:Vinegar Hill Music Theatre 53 Old Post Rd Arundel\, ME 04046
UID:e.1923.11550
SEQUENCE:3
DTSTAMP:20260424T153950Z
URL:https://chamber.gokennebunks.com/events/details/piano-men-09-28-2019-11550
END:VEVENT

END:VCALENDAR
