BEGIN:VCALENDAR
VERSION:2.0
PRODID:-//ChamberMaster//Event Calendar 2.0//EN
METHOD:PUBLISH
X-PUBLISHED-TTL:P3D
REFRESH-INTERVAL:P3D
CALSCALE:GREGORIAN
BEGIN:VEVENT
DTSTART:20241203T210000Z
DTEND:20241203T220000Z
X-MICROSOFT-CDO-ALLDAYEVENT:FALSE
SUMMARY:PHOTOGRAPHER BOB DENNIS & TOM BRADBURY
DESCRIPTION:Bob Dennis and Tom Bradbury will be here to discuss their new book\, "Reflections" with photos of Kennebunkport. Parking is available along Maine Street\, the North Street Fire Station Parking Lot\, and Consolidated School (Route 9). The Louis T. Graves Memorial Public Library is located at 18 Maine Street\, Kennebunkport. For further information\, please call 967-2778 or visit our website at www.graveslibrary.org.
X-ALT-DESC;FMTTYPE=text/html:<span style="font-family:arial\,sans-serif">Bob Dennis and Tom Bradbury will be here to discuss their new book\, &ldquo\;Reflections&rdquo\; with photos of Kennebunkport. Parking is available along Maine Street\, the North Street Fire Station Parking Lot\, and Consolidated School (Route 9). The Louis T. Graves Memorial Public Library is located at 18 Maine Street\, Kennebunkport. For further information\, please call 967-2778 or visit our website at www.graveslibrary.org.</span>
LOCATION:The Louis T. Graves Memorial Public Library is located at 18 Maine Street\, Kennebunkport. For further information\, please call 967-2778 or visit our website at www.graveslibrary.org.
UID:e.1923.29881
SEQUENCE:3
DTSTAMP:20260421T020443Z
URL:https://chamber.gokennebunks.com/events/details/photographer-bob-dennis-tom-bradbury-29881
END:VEVENT

END:VCALENDAR
