BEGIN:VCALENDAR
VERSION:2.0
PRODID:-//ChamberMaster//Event Calendar 2.0//EN
METHOD:PUBLISH
X-PUBLISHED-TTL:P3D
REFRESH-INTERVAL:P3D
CALSCALE:GREGORIAN
BEGIN:VEVENT
DTSTART:20230712T143000Z
DTEND:20230712T153000Z
X-MICROSOFT-CDO-ALLDAYEVENT:FALSE
SUMMARY:PETER BOIE MAGIC SHOW
DESCRIPTION:Wednesday\, July 12\, 10:30 AM. Peter Boie Magic Show\, Louis T. Graves Memorial Public Library\,18 Maine Street\, Kennebunkport. Mind-blowing magic and side-splitting comedy. Peter first became fascinated with magic at the age of eleven when he stumbled across a magic book at his local library. He now travels around the country performing his award-winning magic that will defy your reality. An award-winning show for "groovy" people of all ages. Pre-registration is required. For further information\, please call 967-2778 or visit our website at www.graveslibrary.org.
X-ALT-DESC;FMTTYPE=text/html:Wednesday\, July 12\, 10:30 AM. Peter Boie Magic Show\, Louis T. Graves Memorial Public Library\,18 Maine Street\, Kennebunkport. Mind-blowing magic and side-splitting comedy. Peter first became fascinated with magic at the age of eleven when he stumbled across a magic book at his local library. He now travels around the country performing his award-winning magic that will defy your reality. An award-winning show for &quot\;groovy&quot\; people of all ages. Pre-registration is required. For further information\, please call 967-2778 or visit our website at www.graveslibrary.org.
LOCATION:Louis T. Graves Memorial Public Library\,18 Maine Street\, Kennebunkport.
UID:e.1923.20883
SEQUENCE:3
DTSTAMP:20260422T050059Z
URL:https://chamber.gokennebunks.com/events/details/peter-boie-magic-show-20883
END:VEVENT

END:VCALENDAR
