BEGIN:VCALENDAR
VERSION:2.0
PRODID:-//ChamberMaster//Event Calendar 2.0//EN
METHOD:PUBLISH
X-PUBLISHED-TTL:P3D
REFRESH-INTERVAL:P3D
CALSCALE:GREGORIAN
BEGIN:VEVENT
DTSTART:20191219T140000Z
DTEND:20191219T200000Z
X-MICROSOFT-CDO-ALLDAYEVENT:FALSE
SUMMARY:Pet CPR and First Aid
DESCRIPTION:Learn Pet CPR\, First Aid today!\n\nPet Tech  is the first International Training Center dedicated to CPR\, First Aid & Care for dogs and cats. We have been teaching the important skills of Pet CPR\, First Aid & Care for over 20 years. The Pet Tech  Trainings have helped save the lives of deca-thousands of pets that have been in emergency situations with their pet parent or pet care professional. In our classes you will learn CPR techniques\, first aid skills\, dental and senior care (only available with PetSaver  Training)\, as well as health and wellness information for dogs and cats. Additionally\, the class includes our PetSaver  40-page handbook and upon successful completion\, each participant will receive a certificate and wallet card.\n\n\n\n\n\n\n\n\nYou will learn the following...\n\n\n	Importance of Pet First Aid\n	10 Situations That Require Immediate Veterinary Care\n	Pet CPR (3 Styles)\n	How to Put Together Your Own Pet First Aid Kit\n	Rescue Breathing\n	Restraining Your Pet\n	Choking Management\n	Heat and Cold Injuries\n	Bleeding Management\n	Poisoning\n	How to Help Your Pet in a Medical Emergency\n	Insect Bites and Stings\n	Snout-To-Tail  Wellness Assessment\n	Snake Bite\n	Snout-To-Tail  Injury Assessment\n	Assessing Your Pet's Vitals
X-ALT-DESC;FMTTYPE=text/html:<div>\n<div>\n<div>\n<div>\n<div>\n<div>\n<h2>Learn Pet CPR\, First Aid today!</h2>\n\n<p>Pet Tech&reg\; is the first International Training Center dedicated to CPR\, First Aid &amp\; Care for dogs and cats. We have been teaching the important skills of Pet CPR\, First Aid &amp\; Care for over 20 years. The Pet Tech&reg\; Trainings have helped save the lives of deca-thousands of pets that have been in emergency situations with their pet parent or pet care professional. In our classes you will learn CPR techniques\, first aid skills\, dental and senior care (only available with PetSaver&trade\; Training)\, as well as health and wellness information for dogs and cats. Additionally\, the class includes our PetSaver&trade\; 40-page handbook and upon successful completion\, each participant will receive a certificate and wallet card.</p>\n</div>\n</div>\n</div>\n\n<div>\n<div>\n<div>\n<div>\n<h3>You will learn the following...</h3>\n\n<ul>\n	<li>Importance of Pet First Aid</li>\n	<li>10 Situations That Require Immediate Veterinary Care</li>\n	<li>Pet CPR (3 Styles)</li>\n	<li>How to Put Together Your Own Pet First Aid Kit</li>\n	<li>Rescue Breathing</li>\n	<li>Restraining Your Pet</li>\n	<li>Choking Management</li>\n	<li>Heat and Cold Injuries</li>\n	<li>Bleeding Management</li>\n	<li>Poisoning</li>\n	<li>How to Help Your Pet in a Medical Emergency</li>\n	<li>Insect Bites and Stings</li>\n	<li>Snout-To-Tail&trade\; Wellness Assessment</li>\n	<li>Snake Bite</li>\n	<li>Snout-To-Tail&trade\; Injury Assessment</li>\n	<li>Assessing Your Pet&rsquo\;s Vitals</li>\n</ul>\n</div>\n</div>\n</div>\n</div>\n</div>\n</div>\n</div>\n
LOCATION:West Kennebunk Fire Station 80 Thompson Rd Kennebunk\, ME 04043
UID:e.1923.15527
SEQUENCE:3
DTSTAMP:20260424T112519Z
URL:https://chamber.gokennebunks.com/events/details/pet-cpr-and-first-aid-15527
END:VEVENT

END:VCALENDAR
