BEGIN:VCALENDAR
VERSION:2.0
PRODID:-//ChamberMaster//Event Calendar 2.0//EN
METHOD:PUBLISH
X-PUBLISHED-TTL:P3D
REFRESH-INTERVAL:P3D
CALSCALE:GREGORIAN
BEGIN:VEVENT
DTSTART:20180715T000000Z
DTEND:20180715T020000Z
X-MICROSOFT-CDO-ALLDAYEVENT:FALSE
SUMMARY:Paula Cole
DESCRIPTION:Grammy winner and 7 time Grammy nominee Paula Cole has released nine solo albums spanning an eighteen-year career. Hit songs ?Where Have All the Cowboys Gone?? and ?I Don?t Want to Wait? continue to play on radio stations today. On her recently released album\, Raven\, Paula returns to her Harbinger-styled\, storytelling roots.
X-ALT-DESC;FMTTYPE=text/html:Grammy winner and 7 time Grammy nominee Paula Cole has released nine solo albums spanning an eighteen-year career. Hit songs ?Where Have All the Cowboys Gone?? and ?I Don?t Want to Wait? continue to play on radio stations today. On her recently released album\, Raven\, Paula returns to her Harbinger-styled\, storytelling roots. 
LOCATION:Vinegar Hill Music Theatre 53 Old Post Rd. Arundel\, ME 04046
UID:e.1923.7168
SEQUENCE:3
DTSTAMP:20260425T132543Z
URL:https://chamber.gokennebunks.com/events/details/paula-cole-7168
END:VEVENT

END:VCALENDAR
