BEGIN:VCALENDAR
VERSION:2.0
PRODID:-//ChamberMaster//Event Calendar 2.0//EN
METHOD:PUBLISH
X-PUBLISHED-TTL:P3D
REFRESH-INTERVAL:P3D
CALSCALE:GREGORIAN
BEGIN:VEVENT
DTSTART:20190817T000000Z
DTEND:20190817T023000Z
X-MICROSOFT-CDO-ALLDAYEVENT:FALSE
SUMMARY:Paula Cole
DESCRIPTION:Paula Cole returns to our stage for a third time with a brand new show! Grammy winner and seven-time Grammy nominee Paula Cole has released ten solo albums and soon to be eleven spanning an eighteen-year career. Hit songs "Where Have All the Cowboys Gone?" and "I Don't Want to Wait" continue to play on radio stations today. Paula has sold approximately three million albums and has performed with icons in many genres of music from Peter Gabriel to Dolly Parton. Cole's emotionally deep and thrilling performances are a trademark. Poetic and fiercely touching writing makes Cole stand apart. Her compositions have been covered by Herbie Hancock\, Annie Lennox\, Katherine McPhee\, to name a few. From her top ten hits of the 1990's to her more recent critically acclaimed albums\, Paula Cole continues to write\, produce\, record and perform heartfelt\, meaningful\, lasting music that defies categorization.
X-ALT-DESC;FMTTYPE=text/html:Paula Cole returns to our stage for a third time with a brand new show! Grammy winner and seven-time Grammy nominee Paula Cole has released ten solo albums and soon to be eleven spanning an eighteen-year career. Hit songs &ldquo\;Where Have All the Cowboys Gone?&rdquo\; and &ldquo\;I Don&rsquo\;t Want to Wait&rdquo\; continue to play on radio stations today. Paula has sold approximately three million albums and has performed with icons in many genres of music from Peter Gabriel to Dolly Parton. Cole&rsquo\;s emotionally deep and thrilling performances are a trademark. Poetic and fiercely touching writing makes Cole stand apart. Her compositions have been covered by Herbie Hancock\, Annie Lennox\, Katherine McPhee\, to name a few. From her top ten hits of the 1990&rsquo\;s to her more recent critically acclaimed albums\, Paula Cole continues to write\, produce\, record and perform heartfelt\, meaningful\, lasting music that defies categorization.
LOCATION:Vinegar Hill Music Theatre 53 Old Post Rd. Arundel\, ME 04046
UID:e.1923.12848
SEQUENCE:3
DTSTAMP:20260424T165440Z
URL:https://chamber.gokennebunks.com/events/details/paula-cole-08-16-2019-12848
END:VEVENT

END:VCALENDAR
