BEGIN:VCALENDAR
VERSION:2.0
PRODID:-//ChamberMaster//Event Calendar 2.0//EN
METHOD:PUBLISH
X-PUBLISHED-TTL:P3D
REFRESH-INTERVAL:P3D
CALSCALE:GREGORIAN
BEGIN:VEVENT
DTSTART:20250216T180000Z
DTEND:20250216T190000Z
X-MICROSOFT-CDO-ALLDAYEVENT:FALSE
SUMMARY:Patricia Leavy - Book Signing
DESCRIPTION:Come and meet Patricia Leavy our local best seller at Mornings in Paris.
X-ALT-DESC;FMTTYPE=text/html:Come and meet Patricia Leavy our local best seller at Mornings in Paris.<br />\n<br />\n&nbsp\;
LOCATION:Mornings in Paris \, 21 Western Avenue\, Kennebunk\, ME 04043
UID:e.1923.33116
SEQUENCE:3
DTSTAMP:20260420T230253Z
URL:https://chamber.gokennebunks.com/events/details/patricia-leavy-book-signing-33116
END:VEVENT

END:VCALENDAR
