BEGIN:VCALENDAR
VERSION:2.0
PRODID:-//ChamberMaster//Event Calendar 2.0//EN
METHOD:PUBLISH
X-PUBLISHED-TTL:P3D
REFRESH-INTERVAL:P3D
CALSCALE:GREGORIAN
BEGIN:VEVENT
DTSTART:20191103T194500Z
DTEND:20191103T204500Z
X-MICROSOFT-CDO-ALLDAYEVENT:FALSE
SUMMARY:parent + teen sweat + flow
DESCRIPTION:parents\, grab your teens and join us for a special sweat + flow where you can practice together. we may even throw in a couple partner poses that you can play with.
X-ALT-DESC;FMTTYPE=text/html:parents\, grab your teens and join us for a special sweat + flow where you can practice together. we may even throw in a couple partner poses that you can play with. 
LOCATION:The Daily Sweat Yoga + Barre Studio 65 Portland RD Building A\, Unit D\, Kennebunk\, ME 04043
UID:e.1923.15486
SEQUENCE:3
DTSTAMP:20260424T124651Z
URL:https://chamber.gokennebunks.com/events/details/parent-teen-sweat-flow-15486
END:VEVENT

END:VCALENDAR
