BEGIN:VCALENDAR
VERSION:2.0
PRODID:-//ChamberMaster//Event Calendar 2.0//EN
METHOD:PUBLISH
X-PUBLISHED-TTL:P3D
REFRESH-INTERVAL:P3D
CALSCALE:GREGORIAN
BEGIN:VEVENT
DTSTART:20241209T010000Z
DTEND:20241209T030000Z
X-MICROSOFT-CDO-ALLDAYEVENT:FALSE
SUMMARY:Palaver Strings: Beehive Chamber Series - Outlook
DESCRIPTION:Palaver Strings is a Maine-based\, musician-led string ensemble known for dynamic performances that blend classical\, contemporary\, folk\, jazz\, and world music. Founded in 2014\, the group is dedicated to making music accessible through community outreach and educational programs. As ensemble-in-residence at Bay Chamber Concerts in Rockport\, ME\, they engage in music education while also focusing on social justice issues like climate change and equality. Palaver Strings' innovative approach to classical music and their mission to break down traditional barriers have made them a unique and celebrated presence in New England's music scene.\n\n \n\nBeehive Chamber Series: Outlook\n\nThis program explores multiple outlooks on life and chamber music. Described as a "fervent\, celebratory investigation into joy itself\," Paul Wiancko's Lift explodes with adventurous textures that span the full sonic range of the string quartet. The program continues with two short contemplative pieces by Olafur Arnalds\, and concludes with Schubert's epic "Death and the Maiden\," a passionate dance with death that was only published after Schubert's own death in 1828.
X-ALT-DESC;FMTTYPE=text/html:<p><a href="https://www.palaverstrings.org/" rel="noopener noreferrer" style="box-sizing: border-box\; color: rgb(255\, 255\, 255)\; text-decoration-line: none\; background-color: transparent\; outline: none !important\;" target="_blank"><strong>Palaver Strings</strong></a> is a Maine-based\, musician-led string ensemble known for dynamic performances that blend classical\, contemporary\, folk\, jazz\, and world music. Founded in 2014\, the group is dedicated to making music accessible through community outreach and educational programs. As ensemble-in-residence at Bay Chamber Concerts in Rockport\, ME\, they engage in music education while also focusing on social justice issues like climate change and equality. Palaver Strings&rsquo\; innovative approach to classical music and their mission to break down traditional barriers have made them a unique and celebrated presence in New England&rsquo\;s music scene.</p>\n\n<p>&nbsp\;</p>\n\n<p><strong>Beehive Chamber Series: Outlook</strong></p>\n\n<p>This program explores multiple outlooks on life and chamber music. Described as a &ldquo\;fervent\, celebratory investigation into joy itself\,&rdquo\; Paul Wiancko&rsquo\;s Lift explodes with adventurous textures that span the full sonic range of the string quartet. The program continues with two short contemplative pieces by Olafur Arnalds\, and concludes with Schubert&rsquo\;s epic &ldquo\;Death and the Maiden\,&rdquo\; a passionate dance with death that was only published after Schubert&rsquo\;s own death in 1828.</p>\n
LOCATION:Vinegar Hill Music Theatre 53 Old Post Road Arundel\, Maine 04046
UID:e.1923.31005
SEQUENCE:3
DTSTAMP:20260421T032534Z
URL:https://chamber.gokennebunks.com/events/details/palaver-strings-beehive-chamber-series-outlook-31005
END:VEVENT

END:VCALENDAR
