BEGIN:VCALENDAR
VERSION:2.0
PRODID:-//ChamberMaster//Event Calendar 2.0//EN
METHOD:PUBLISH
X-PUBLISHED-TTL:P3D
REFRESH-INTERVAL:P3D
CALSCALE:GREGORIAN
BEGIN:VEVENT
DTSTART;VALUE=DATE:20231125
DTEND;VALUE=DATE:20231126
TRANSP:TRANSPARENT
X-MICROSOFT-CDO-ALLDAYEVENT:TRUE
SUMMARY:Pajama Shopping Day at The Daily Sweat
DESCRIPTION:leave your yoga pants behind! join us in your PJs for a $5 class\, a special package deal + retail deal announced on friday. we sell fitness apparel for men + women from great brands including lululemon\, beyond yoga\, spiritual gangster\, manduka\, free people + more.
X-ALT-DESC;FMTTYPE=text/html:leave your yoga pants behind! join us in your PJs for a $5 class\, a special package deal + retail deal announced on friday. we sell fitness apparel for men + women from great brands including lululemon\, beyond yoga\, spiritual gangster\, manduka\, free people + more.
LOCATION:The Daily Sweat 65 Portland Rd Building A Unit D\, Kennebunk\, ME 04043
UID:e.1923.23055
SEQUENCE:3
DTSTAMP:20260421T233136Z
URL:https://chamber.gokennebunks.com/events/details/pajama-shopping-day-at-the-daily-sweat-23055
END:VEVENT

END:VCALENDAR
