BEGIN:VCALENDAR
VERSION:2.0
PRODID:-//ChamberMaster//Event Calendar 2.0//EN
METHOD:PUBLISH
X-PUBLISHED-TTL:P3D
REFRESH-INTERVAL:P3D
CALSCALE:GREGORIAN
BEGIN:VEVENT
DTSTART;VALUE=DATE:20241130
DTEND;VALUE=DATE:20241201
TRANSP:TRANSPARENT
X-MICROSOFT-CDO-ALLDAYEVENT:TRUE
SUMMARY:pajama shopping day
DESCRIPTION:leave your yoga pants behind! join us in your PJs for a $5 class\, a special package deal + retail deal announced on friday. we sell fitness apparel for men + women from great brands including lululemon\, beyond yoga\, spiritual gangster\, manduka\, free people + more.
X-ALT-DESC;FMTTYPE=text/html:<span style="color:rgb(0\, 0\, 0)\; font-family:arial\; font-size:15px">leave your yoga pants behind! join us in your PJs for a $5 class\, a special package deal + retail deal announced on friday. we sell fitness apparel for men + women from great brands including lululemon\, beyond yoga\, spiritual gangster\, manduka\, free people + more.</span>
LOCATION:65 Portland Rd Building A Unit D\, Kennebunk\, ME 04043
UID:e.1923.31041
SEQUENCE:3
DTSTAMP:20260421T073446Z
URL:https://chamber.gokennebunks.com/events/details/pajama-shopping-day-11-30-2024-31041
END:VEVENT

END:VCALENDAR
