BEGIN:VCALENDAR
VERSION:2.0
PRODID:-//ChamberMaster//Event Calendar 2.0//EN
METHOD:PUBLISH
X-PUBLISHED-TTL:P3D
REFRESH-INTERVAL:P3D
CALSCALE:GREGORIAN
BEGIN:VEVENT
DTSTART:20240809T160000Z
DTEND:20240810T160000Z
X-MICROSOFT-CDO-ALLDAYEVENT:FALSE
SUMMARY:Painting the Maine Coast in Oils or Acrylics En Plein Air with Jayne Adams at Arundel Farm Gallery
DESCRIPTION:Painting outdoors on the Maine Coast en plein air with Jayne Adams - Two days and two different locations!  In the morning students will work on location and practice smaller\, quick studies gathering interest and cues for developing a larger painting in the afternoon sessions back in the gallery classroom.  This workshop will demonstrate how to bridge the painted sketch with an extended focused piece.  Students are required to have some painting experience for this workshop.  Complete class description on our website. \n\n\n\nJayne Adams is a New Hampshire artist who has received 3 Currier Gallery of the Arts Awards through the New Hampshire Art Association and the Currier Museum\, the Lacroix Award for Painting\, The Holland Sister's Award and others.  Her work is collected throughout the United States and Canada and she is a current member of the Ogunquit Art Association.
X-ALT-DESC;FMTTYPE=text/html:Painting outdoors on the Maine Coast en plein air with Jayne Adams - Two days and two different locations!&nbsp\; In the morning students will work on location and practice smaller\, quick studies gathering interest and cues for developing a larger painting in the afternoon sessions back in the gallery classroom.&nbsp\; This workshop will demonstrate how to bridge the painted sketch with an extended focused piece.&nbsp\; Students are required to have some painting experience for this workshop.&nbsp\; Complete class description on our website.&nbsp\;<br />\n<br />\nJayne Adams is a New Hampshire artist who has received 3 Currier Gallery of the Arts Awards through the New Hampshire Art Association and the Currier Museum\, the Lacroix Award for Painting\, The Holland Sister&#39\;s Award and others.&nbsp\; Her work is collected throughout the United States and Canada and she is a current member of the Ogunquit Art Association.<br />\n&nbsp\;
LOCATION:Arundel Farm Gallery\, 76 Arundel Road\, Arundel\, Maine 04046
UID:e.1923.25264
SEQUENCE:3
DTSTAMP:20260421T124637Z
URL:https://chamber.gokennebunks.com/events/details/painting-the-maine-coast-in-oils-or-acrylics-en-plein-air-with-jayne-adams-at-arundel-farm-gallery-25264
END:VEVENT

END:VCALENDAR
