BEGIN:VCALENDAR
VERSION:2.0
PRODID:-//ChamberMaster//Event Calendar 2.0//EN
METHOD:PUBLISH
X-PUBLISHED-TTL:P3D
REFRESH-INTERVAL:P3D
CALSCALE:GREGORIAN
BEGIN:VEVENT
DTSTART:20240422T200000Z
DTEND:20240529T213000Z
X-MICROSOFT-CDO-ALLDAYEVENT:FALSE
SUMMARY:PAINTING EXPLORATIONS
DESCRIPTION:WEDNESDAYS\, 4:00-5:30PM\n\n6 weeks\; April 24   May 29 (makeup if RTA cancels a class: 6/5)\n\nGrades 6-8\n\nInstructor: Leah Payne\n\n\n\nIn this class\, young artists will learn painting techniques to help them feel successful with a brush in their hands. They'll explore color and shape to help them discover their individual artistic styles. Experiment with color mixing\, creating texture\, as well as choosing materials. Artists will learn how to use their new skills to continue making art far into the future! Students will work on various surfaces including canvases\, rocks\, traditional paper\, and more!\n\n\n\nREGISTER HERE: https://rivertree.app.neoncrm.com/np/clients/rivertree/event.jsp?event=12250&\n\n\n\nMembers: $190 | Non-Members: $220
X-ALT-DESC;FMTTYPE=text/html:WEDNESDAYS\, 4:00-5:30PM<br />\n6 weeks\; April 24 &ndash\; May 29 (makeup if RTA cancels a class: 6/5)<br />\nGrades 6-8<br />\nInstructor: Leah Payne<br />\n<br />\nIn this class\, young artists will learn painting techniques to help them feel successful with a brush in their hands. They&rsquo\;ll explore color and shape to help them discover their individual artistic styles. Experiment with color mixing\, creating texture\, as well as choosing materials. Artists will learn how to use their new skills to continue making art far into the future! Students will work on various surfaces including canvases\, rocks\, traditional paper\, and more!<br />\n<br />\nREGISTER HERE:&nbsp\;<a href="https://rivertree.app.neoncrm.com/np/clients/rivertree/event.jsp?event=12250&amp\;">https://rivertree.app.neoncrm.com/np/clients/rivertree/event.jsp?event=12250&amp\;</a><br />\n<br />\nMembers: $190 | Non-Members: $220
LOCATION:River Tree Arts\, 35 Western Ave.\, Kennebunk\, Maine
UID:e.1923.24543
SEQUENCE:3
DTSTAMP:20260421T153016Z
URL:https://chamber.gokennebunks.com/events/details/painting-explorations-04-22-2024-24543
END:VEVENT

END:VCALENDAR
