BEGIN:VCALENDAR
VERSION:2.0
PRODID:-//ChamberMaster//Event Calendar 2.0//EN
METHOD:PUBLISH
X-PUBLISHED-TTL:P3D
REFRESH-INTERVAL:P3D
CALSCALE:GREGORIAN
BEGIN:VEVENT
DTSTART:20240906T130000Z
DTEND:20240907T200000Z
X-MICROSOFT-CDO-ALLDAYEVENT:FALSE
SUMMARY:Painterly Pastels for Beginners and Intermediate Levels with Keith Demanche at Arundel Farm Gallery
DESCRIPTION:If you are just starting out with pastels or wish to elevate your work to be more painterly and more polished\, come join us in this beautiful farm setting to learn Keith Demanche's techniques!  We will include the following topics:  Achieving exciting lighting techniques\; loosening up while still getting the perfect amount of detail\; choosing the best paper for your style\; using different hardnesses of pastel to create depth\, and much more.  No previous experience needed for this workshop.\n\n\n\nKeith Demanche is a signature member of the Pastel Society of New Hampshire\, signature member of the Massachusetts Pastel Society\, and part of the Master Circle of the International Association of Pastel Societies.
X-ALT-DESC;FMTTYPE=text/html:If you are just starting out with pastels or wish to elevate your work to be more painterly and more polished\, come join us in this beautiful farm setting to learn Keith Demanche&#39\;s techniques!&nbsp\; We will include the following topics:&nbsp\; Achieving exciting lighting techniques\; loosening up while still getting the perfect amount of detail\; choosing the best paper for your style\; using different hardnesses of pastel to create depth\, and much more.&nbsp\; No previous experience needed for this workshop.<br />\n<br />\nKeith Demanche is a signature member of the Pastel Society of New Hampshire\, signature member of the Massachusetts Pastel Society\, and part of the Master Circle of the International Association of Pastel Societies.
LOCATION:Arundel Farm Gallery\, 76 Arundel Road\, Arundel\, ME 04046
UID:e.1923.25267
SEQUENCE:3
DTSTAMP:20260421T100301Z
URL:https://chamber.gokennebunks.com/events/details/painterly-pastels-for-beginners-and-intermediate-levels-with-keith-demanche-at-arundel-farm-gallery-25267
END:VEVENT

END:VCALENDAR
