BEGIN:VCALENDAR
VERSION:2.0
PRODID:-//ChamberMaster//Event Calendar 2.0//EN
METHOD:PUBLISH
X-PUBLISHED-TTL:P3D
REFRESH-INTERVAL:P3D
CALSCALE:GREGORIAN
BEGIN:VEVENT
DTSTART:20180407T140000Z
DTEND:20180407T180000Z
X-MICROSOFT-CDO-ALLDAYEVENT:FALSE
SUMMARY:Paint Your Pet Workshop
DESCRIPTION:Come join me in my new studio for this special Paint Your Pet Workshop. Can't draw? No worries...your pet will be pre-sketched on the canvas. NO painting experience necessary. I will walk you step by step through the whole process!
X-ALT-DESC;FMTTYPE=text/html:Come join me in my new studio for this special Paint Your Pet Workshop. Can&#39\;t draw? No worries...your pet will be pre-sketched on the canvas. NO painting experience necessary. I will walk you step by step through the whole process!
LOCATION:Dawn Burns Art Studio 185 Port Rd Kennebunk\, ME 04043
UID:e.1923.9769
SEQUENCE:3
DTSTAMP:20260425T170400Z
URL:https://chamber.gokennebunks.com/events/details/paint-your-pet-workshop-9769
END:VEVENT

END:VCALENDAR
