BEGIN:VCALENDAR
VERSION:2.0
PRODID:-//ChamberMaster//Event Calendar 2.0//EN
METHOD:PUBLISH
X-PUBLISHED-TTL:P3D
REFRESH-INTERVAL:P3D
CALSCALE:GREGORIAN
BEGIN:VEVENT
DTSTART:20230726T213000Z
DTEND:20230727T003000Z
X-MICROSOFT-CDO-ALLDAYEVENT:FALSE
SUMMARY:Paint Your Pet Workshop
DESCRIPTION:Come paint your pet!\n\nJoin The Creative Soul at downtown Kennebunk's newest gift shop\, TipToe.  Enjoy a fun evening with your fellow animal lovers. \n\nThis is a very fun and popular class and sells out fast. Do not be intimidated. NO PAINTING EXPERIENCE is necessary. Your pet will be pre-sketched on the canvas and I will walk you step-by-step through the entire process. Walk out with a beautiful 11 14 portrait of your furry friend. These also make great gifts for the animal lover in your life.
X-ALT-DESC;FMTTYPE=text/html:<div>Come paint your pet!</div>\n\n<div>Join The Creative Soul at downtown Kennebunk&#39\;s newest gift shop\, TipToe.&nbsp\; Enjoy a fun evening with your fellow animal lovers.&nbsp\;</div>\n\n<div>This is a very fun and popular class and sells out fast. Do not be intimidated. NO PAINTING EXPERIENCE is necessary. Your pet will be pre-sketched on the canvas and I will walk you step-by-step through the entire process. Walk out with a beautiful 11&times\;14 portrait of your furry friend. These also make great gifts for the animal lover in your life.</div>\n
LOCATION:TipToe\, LLC Eco Marketplace 68 Main Street Kennebunk\, ME 04043
UID:e.1923.20907
SEQUENCE:3
DTSTAMP:20260422T050200Z
URL:https://chamber.gokennebunks.com/events/details/paint-your-pet-workshop-07-26-2023-20907
END:VEVENT

END:VCALENDAR
