BEGIN:VCALENDAR
VERSION:2.0
PRODID:-//ChamberMaster//Event Calendar 2.0//EN
METHOD:PUBLISH
X-PUBLISHED-TTL:P3D
REFRESH-INTERVAL:P3D
CALSCALE:GREGORIAN
BEGIN:VEVENT
DTSTART:20180608T160000Z
DTEND:20180608T160000Z
X-MICROSOFT-CDO-ALLDAYEVENT:FALSE
SUMMARY:Paint Your Pet Workshop
DESCRIPTION:Make your pet feel like a rockstar! Come join us for this special paint your pet workshop. Don't worry...your pet will be pre-sketched on the canvas ahead of time. I will walk you step by step through the whole painting process. Because of the hands on nature of this workshop..only 6 students will be accepted so buy your tickets early. Tickets must be purchased in advance and reference photos must be sent by the specified dates. Please email reference photos to dawn@dawnburnsart.com by 6/6/18 Click the link below to purchase tickets. http://dawnburnsart.com/event/paint-your-pet-workshop-11/
X-ALT-DESC;FMTTYPE=text/html:Make your pet feel like a rockstar! Come join us for this special paint your pet workshop. Don&#39\;t worry...your pet will be pre-sketched on the canvas ahead of time. I will walk you step by step through the whole painting process. Because of the hands on nature of this workshop..only 6 students will be accepted so buy your tickets early. Tickets must be purchased in advance and reference photos must be sent by the specified dates. Please email reference photos to dawn@dawnburnsart.com by 6/6/18 Click the link below to purchase tickets. http://dawnburnsart.com/event/paint-your-pet-workshop-11/
LOCATION:Dawn Burns Art Studio 185 Port Road\, Kennebunk\, ME
UID:e.1923.9819
SEQUENCE:3
DTSTAMP:20260425T155014Z
URL:https://chamber.gokennebunks.com/events/details/paint-your-pet-workshop-06-08-2018-9819
END:VEVENT

END:VCALENDAR
