BEGIN:VCALENDAR
VERSION:2.0
PRODID:-//ChamberMaster//Event Calendar 2.0//EN
METHOD:PUBLISH
X-PUBLISHED-TTL:P3D
REFRESH-INTERVAL:P3D
CALSCALE:GREGORIAN
BEGIN:VEVENT
DTSTART:20250215T190000Z
DTEND:20250215T203000Z
X-MICROSOFT-CDO-ALLDAYEVENT:FALSE
SUMMARY:Paint the Town Red Mixology Classes at Ocean
DESCRIPTION:Join us Ocean at Cape Arundel Inn & Resort and learn how to prepare classic cocktails with our skilled bartenders. Learn to infuse your drinks with fresh flavors and create garnishes for stunning sips! Includes three (3) cocktail tastings and light bites to pair with your new creations. Part of Cape Arundel Inn & Resort's programming for February's Paint the Town Red in Kennebunkport!\n\n\n	Saturday\, February 1 at 2pm\n	Saturday\, February 15 at 2pm\n\n\nPURCHASE TICKETS: https://www.eventbrite.com/cc/mixology-at-ocean-3002569\n\nMore Information about Ocean at Cape Arundel Inn & Resort in Kennebunkport\, Maine.\n\n__\n\nClass is open to adults 21 years of age or older. Proper ID is required at door. We look forward to seeing you.
X-ALT-DESC;FMTTYPE=text/html:<p>Join us Ocean at Cape Arundel Inn &amp\; Resort and learn how to prepare classic cocktails with our skilled bartenders. Learn to infuse your drinks with fresh flavors and create garnishes for stunning sips! Includes three (3) cocktail tastings and light bites to pair with your new creations. Part of Cape Arundel Inn &amp\; Resort&#39\;s programming for February&#39\;s Paint the Town Red in Kennebunkport!</p>\n\n<ul>\n	<li><em>Saturday\, February 1 at 2pm</em></li>\n	<li><em>Saturday\, February 15 at 2pm</em></li>\n</ul>\n\n<p><a href="https://www.eventbrite.com/cc/mixology-at-ocean-3002569"><strong>PURCHASE TICKETS:&nbsp\;https://www.eventbrite.com/cc/mixology-at-ocean-3002569</strong></a></p>\n\n<p>More Information about&nbsp\;<a href="https://capearundelinn.com/dining/" rel="nofollow noopener noreferrer" style="background-color: transparent\; text-decoration-line: none\; color: rgb(54\, 89\, 227)\; cursor: pointer\; box-sizing: border-box\; padding-top: 0px\;" target="_blank" title="https://capearundelinn.com/dining/">Ocean at Cape Arundel Inn &amp\; Resort in Kennebunkport\, Maine</a>.</p>\n\n<p>__</p>\n\n<p><em>Class is open to adults 21 years of age or older. Proper ID is required at door. We look forward to seeing you.</em></p>\n
LOCATION:Ocean Restaurant at Cape Arundel Inn & Resort 208 Ocean Ave Kennebunkport\, Maine 04046
UID:e.1923.31478
SEQUENCE:3
DTSTAMP:20260420T230625Z
URL:https://chamber.gokennebunks.com/events/details/paint-the-town-red-mixology-classes-at-ocean-02-15-2025-31478
END:VEVENT

END:VCALENDAR
