BEGIN:VCALENDAR
VERSION:2.0
PRODID:-//ChamberMaster//Event Calendar 2.0//EN
METHOD:PUBLISH
X-PUBLISHED-TTL:P3D
REFRESH-INTERVAL:P3D
CALSCALE:GREGORIAN
BEGIN:VEVENT
DTSTART:20250212T230000Z
DTEND:20250213T010000Z
X-MICROSOFT-CDO-ALLDAYEVENT:FALSE
SUMMARY:Paint the Town Red - Beaded Bouquet and Candle Making Workshop
DESCRIPTION:LET'S PAINT THE TOWN RED - Join Jenn from Candlewood to make a beautiful fresh spring scented 12 ounce candle and one gorgeous beaded mini bouquet. You will enjoy a night of fun personalizing your candle\, choosing your scents and crafting a unique bouquet no one will believe was crafted by YOU! Artificial flowers are handmade using acrylic beads and metal wire. They are perfect for daily use and can be placed indoors and outdoors as an stunning eye catching centerpiece decoration!  All Supplies included.
X-ALT-DESC;FMTTYPE=text/html:<span style="color:rgb(0\, 0\, 0)\; font-family:verdana\,arial\,helvetica\,sans-serif\; font-size:12px">LET&#39\;S PAINT THE TOWN RED - Join Jenn from Candlewood to make a beautiful fresh spring scented 12 ounce candle and one gorgeous beaded mini bouquet. You will enjoy a night of fun personalizing your candle\, choosing your scents and crafting a unique bouquet no one will believe was crafted by YOU! Artificial flowers are handmade using acrylic beads and metal wire. They are perfect for daily use and can be placed indoors and outdoors as an stunning eye catching centerpiece decoration! &nbsp\;All Supplies included.</span>
LOCATION:The Creative Soul 2 Christensen Ln Kennebunk\, ME
UID:e.1923.33085
SEQUENCE:3
DTSTAMP:20260420T230625Z
URL:https://chamber.gokennebunks.com/events/details/paint-the-town-red-beaded-bouquet-and-candle-making-workshop-2-12-25-33085
END:VEVENT

END:VCALENDAR
