BEGIN:VCALENDAR
VERSION:2.0
PRODID:-//ChamberMaster//Event Calendar 2.0//EN
METHOD:PUBLISH
X-PUBLISHED-TTL:P3D
REFRESH-INTERVAL:P3D
CALSCALE:GREGORIAN
BEGIN:VEVENT
DTSTART:20240326T213000Z
DTEND:20240326T233000Z
X-MICROSOFT-CDO-ALLDAYEVENT:FALSE
SUMMARY:PAINT NIGHT: MINI LANDSCAPES IN ACRYLICS - MARCH 26
DESCRIPTION:TUESDAY MARCH 26\, 5:30-7:30PM\n\nInstructor: Instructor: Piper Castles\n\n\n\nCome enjoy an evening of painting a mini local landscape with acrylic paint. You will learn techniques of painting with acrylics including tonal ground\, under painting\, glazing and color mixing. Demonstrations will be projected onto a large screen as well as students receiving personal instruction. All supplies are provided. Come relax and create! Please bring a water bottle with your beverage of choice.\n\n\n\nREGISTER HERE: https://rivertree.app.neoncrm.com/np/clients/rivertree/event.jsp?event=12203&\n\n\n\nMembers: $37 | Non-Members: $42
X-ALT-DESC;FMTTYPE=text/html:TUESDAY MARCH 26\, 5:30-7:30PM<br />\nInstructor: Instructor: Piper Castles<br />\n<br />\nCome enjoy an evening of painting a mini local landscape with acrylic paint. You will learn techniques of painting with acrylics including tonal ground\, under painting\, glazing and color mixing. Demonstrations will be projected onto a large screen as well as students receiving personal instruction. All supplies are provided. Come relax and create! Please bring a water bottle with your beverage of choice.<br />\n<br />\nREGISTER HERE:&nbsp\;<a href="https://rivertree.app.neoncrm.com/np/clients/rivertree/event.jsp?event=12203&amp\;">https://rivertree.app.neoncrm.com/np/clients/rivertree/event.jsp?event=12203&amp\;</a><br />\n<br />\nMembers: $37 | Non-Members: $42
LOCATION:River Tree Arts\, 35 Western Ave.\, Kennebunk\, Maine
UID:e.1923.24563
SEQUENCE:3
DTSTAMP:20260421T180732Z
URL:https://chamber.gokennebunks.com/events/details/paint-night-mini-landscapes-in-acrylics-march-26-24563
END:VEVENT

END:VCALENDAR
