BEGIN:VCALENDAR
VERSION:2.0
PRODID:-//ChamberMaster//Event Calendar 2.0//EN
METHOD:PUBLISH
X-PUBLISHED-TTL:P3D
REFRESH-INTERVAL:P3D
CALSCALE:GREGORIAN
BEGIN:VEVENT
DTSTART:20240409T213000Z
DTEND:20240409T233000Z
X-MICROSOFT-CDO-ALLDAYEVENT:FALSE
SUMMARY:PAINT NIGHT: BOTANICAL WATERCOLOR PAINTING - APRIL 9
DESCRIPTION:TUESDAY APRIL 9\, 5:30-7:30PM\n\nInstructor: Instructor: Piper Castles\n\n\n\nWe will create fresh\, loose watercolor paintings inspired by nature. You will learn brush strokes and basic watercolor techniques to create beautiful art without needing to draw. Demonstrations will be projected onto a large screen as well as students receiving personal instruction. This class is for beginners. All materials are provided. Come relax and create! Please bring a water bottle with your beverage of choice.\n\n\n\nREGISTER HERE: https://rivertree.app.neoncrm.com/np/clients/rivertree/event.jsp?event=12223&\n\n\n\nMembers: $37 | Non-Members: $42
X-ALT-DESC;FMTTYPE=text/html:TUESDAY APRIL 9\, 5:30-7:30PM<br />\nInstructor: Instructor: Piper Castles<br />\n<br />\nWe will create fresh\, loose watercolor paintings inspired by nature. You will learn brush strokes and basic watercolor techniques to create beautiful art without needing to draw. Demonstrations will be projected onto a large screen as well as students receiving personal instruction. This class is for beginners. All materials are provided. Come relax and create! Please bring a water bottle with your beverage of choice.<br />\n<br />\nREGISTER HERE:&nbsp\;<a href="https://rivertree.app.neoncrm.com/np/clients/rivertree/event.jsp?event=12223&amp\;">https://rivertree.app.neoncrm.com/np/clients/rivertree/event.jsp?event=12223&amp\;</a><br />\n<br />\nMembers: $37 | Non-Members: $42<br />\n&nbsp\;
LOCATION:River Tree Arts\, 35 Western Ave.\, Kennebunk\, Maine
UID:e.1923.24566
SEQUENCE:3
DTSTAMP:20260421T164313Z
URL:https://chamber.gokennebunks.com/events/details/paint-night-botanical-watercolor-painting-april-9-24566
END:VEVENT

END:VCALENDAR
