BEGIN:VCALENDAR
VERSION:2.0
PRODID:-//ChamberMaster//Event Calendar 2.0//EN
METHOD:PUBLISH
X-PUBLISHED-TTL:P3D
REFRESH-INTERVAL:P3D
CALSCALE:GREGORIAN
BEGIN:VEVENT
DTSTART:20180610T140000Z
DTEND:20180610T160000Z
X-MICROSOFT-CDO-ALLDAYEVENT:FALSE
SUMMARY:P.U.Ps & Preserves: Walk With Kennebunk Land Trust
DESCRIPTION:The Kennebunk Land Trust is hosting a social walk for owners and their dogs 10 am Sunday\, June 10th at the Butler Preserve\, also known as "Picnic Rock." This is a special walk as KLT will be partnering with P.U.P. (Pick Up Plastic) Bags\, a local environmental organization created by Jane Schaller and her daughter\, Caitlin Martone Cox.  P.U.P. Bags helps you walk with purpose! The foldable\, reusable bag clips conveniently to your dog's leash or collar so you can pick up plastic on your walks. Healthy you\, healthy dog\, healthy planet. A free P.U.P. Bag will be provided to all those who attend. At the walk\, folks will be encouraged to utilize their new P.U.P. Bags to help pick up any plastic/trash at the preserve. All dogs must remain on leash at all times. Owners are expected to bring their own bags for pet waste.\n\n                Butler Preserve is a gem of a walk and can be described as easy to moderate in terms of difficulty. The trail leads to a large boulder known as Picnic Rock with views of the Kennebunk River. In earlier times\, Picnic Rock was a well-known spot where boaters traveling the river would stop and picnic. Now the preserve is enjoyed by people of all ages as a stop on a kayak excursion or to hike. A RSVP is appreciated but not necessary at info@kennebunklandtrust.org or call 207-985-8734.\n\n                This is a rain or shine event\; please wear appropriate footwear and clothing for the weather. Call 207-985-8734 for more details.\n\nDirections: From the Intersection of Portland Road (Rt. 1) and Summer St. (Rt. 35 & 9A) go East for 2.0 miles\, turn left on to Old Port Road. On Old Port Road\, travel 0.7 miles to Butler Preserve. The Entrance to Butler Preserve is on your left. There is no designated off street parking\, drivers may park on the side of the road.
X-ALT-DESC;FMTTYPE=text/html:The Kennebunk Land Trust is hosting a social walk for owners and their dogs 10 am Sunday\, June 10<sup>th</sup> at the Butler Preserve\, also known as &ldquo\;Picnic Rock.&rdquo\; This is a special walk as KLT will be partnering with P.U.P. (Pick Up Plastic) Bags\, a local environmental organization created by Jane Schaller and her daughter\, Caitlin Martone Cox.&nbsp\; P.U.P. Bags helps you walk with purpose! The foldable\, reusable bag clips conveniently to your dog&rsquo\;s leash or collar so you can pick up plastic on your walks. Healthy you\, healthy dog\, healthy planet. A free P.U.P. Bag will be provided to all those who attend. At the walk\, folks will be encouraged to utilize their new P.U.P. Bags to help pick up any plastic/trash at the preserve. All dogs must remain on leash at all times. Owners are expected to bring their own bags for pet waste.<br />\n&nbsp\;&nbsp\;&nbsp\;&nbsp\;&nbsp\;&nbsp\;&nbsp\;&nbsp\;&nbsp\;&nbsp\;&nbsp\;&nbsp\;&nbsp\;&nbsp\;&nbsp\; Butler Preserve is a gem of a walk and can be described as easy to moderate in terms of difficulty. The trail leads to a large boulder known as Picnic Rock with views of the Kennebunk River. In earlier times\, Picnic Rock was a well-known spot where boaters traveling the river would stop and picnic. Now the preserve is enjoyed by people of all ages as a stop on a kayak excursion or to hike. A RSVP is appreciated but not necessary at info@kennebunklandtrust.org or call 207-985-8734.<br />\n&nbsp\;&nbsp\;&nbsp\;&nbsp\;&nbsp\;&nbsp\;&nbsp\;&nbsp\;&nbsp\;&nbsp\;&nbsp\;&nbsp\;&nbsp\;&nbsp\;&nbsp\; This is a rain or shine event\; please wear appropriate footwear and clothing for the weather. Call 207-985-8734 for more details.<br />\nDirections: From the Intersection of Portland Road (Rt. 1) and Summer St. (Rt. 35 &amp\; 9A) go East for 2.0 miles\, turn left on to Old Port Road. On Old Port Road\, travel 0.7 miles to Butler Preserve. The Entrance to Butler Preserve is on your left. There is no designated off street parking\, drivers may park on the side of the road.
LOCATION:Butler Preserve\, Kennebunk\, ME. From the Intersection of Portland Road (Rt. 1) and Summer St. (Rt. 35 & 9A) go East for 2.0 miles\, turn left on to Old Port Road. On Old Port Road\, travel 0.7 miles to Butler Preserve. The Entrance to Butler Preserve is on your left. There is no designated off street parking\, drivers may park on the side of the road.
UID:e.1923.9876
SEQUENCE:3
DTSTAMP:20260425T143535Z
URL:https://chamber.gokennebunks.com/events/details/p-u-ps-preserves-walk-with-kennebunk-land-trust-9876
END:VEVENT

END:VCALENDAR
