BEGIN:VCALENDAR
VERSION:2.0
PRODID:-//ChamberMaster//Event Calendar 2.0//EN
METHOD:PUBLISH
X-PUBLISHED-TTL:P3D
REFRESH-INTERVAL:P3D
CALSCALE:GREGORIAN
BEGIN:VEVENT
DTSTART:20190223T180000Z
DTEND:20190223T200000Z
X-MICROSOFT-CDO-ALLDAYEVENT:FALSE
SUMMARY:Oyster Shucking Class + Wine Tasting
DESCRIPTION:Saturday\, February 23\, 2019 at The Boathouse Waterfront Hotel + Restaurant | 1-3pm | $45 per person\n\nPerfect your shucking skill at The Boathouse while learning all about Maine's oysters from one of our local oyster farmers. *Class is open to adults 21 years of age or older. Proper ID is required at door. You will get:\n\n\n	Hands-on instruction with a half dozen oysters\n	Wine tasting & education on three wines that pair well with oysters\n	Light snacks\n	Oyster Knife\n\nPURCHASE TICKETS: https://www.eventbrite.com/e/oyster-shucking-class-tickets-52489523578\n\nFMI on Paint the Town Red in Kennebunkport: https://destinationkennebunkport.com/paint-town-red-february-kennebunkport/
X-ALT-DESC;FMTTYPE=text/html:<p><strong>Saturday\, February 23\, 2019 at The Boathouse Waterfront Hotel + Restaurant | 1-3pm | $45 per person</strong></p>\n\n<p>Perfect your shucking skill at The Boathouse while learning all about Maine&rsquo\;s oysters from one of our local oyster farmers. *Class is open to adults 21 years of age or older. Proper ID is required at door. You will get:</p>\n\n<ul>\n	<li>Hands-on instruction with a half dozen oysters</li>\n	<li>Wine tasting &amp\; education on three wines that pair well with oysters</li>\n	<li>Light snacks</li>\n	<li>Oyster Knife</li>\n</ul>\nPURCHASE TICKETS:&nbsp\;<a href="https://www.eventbrite.com/e/oyster-shucking-class-tickets-52489523578">https://www.eventbrite.com/e/oyster-shucking-class-tickets-52489523578</a><br />\nFMI on Paint the Town Red in Kennebunkport:&nbsp\;<a href="https://destinationkennebunkport.com/paint-town-red-february-kennebunkport/">https://destinationkennebunkport.com/paint-town-red-february-kennebunkport/</a><br />\n<br />\n&nbsp\;
LOCATION:The Boathouse 21 Ocean Avenue | Kennebunkport\, Maine
UID:e.1923.13057
SEQUENCE:3
DTSTAMP:20260425T012933Z
URL:https://chamber.gokennebunks.com/events/details/oyster-shucking-class-wine-tasting-13057
END:VEVENT

END:VCALENDAR
