BEGIN:VCALENDAR
VERSION:2.0
PRODID:-//ChamberMaster//Event Calendar 2.0//EN
METHOD:PUBLISH
X-PUBLISHED-TTL:P3D
REFRESH-INTERVAL:P3D
CALSCALE:GREGORIAN
BEGIN:VEVENT
DTSTART:20200208T190000Z
DTEND:20200208T200000Z
X-MICROSOFT-CDO-ALLDAYEVENT:FALSE
SUMMARY:Oyster Shucking Class + Wine Tasting
DESCRIPTION:Saturday\, February 8 at The Boathouse Waterfront Hotel + Restaurant | 2-3pm\n\n\n\nPerfect your shucking skill at The Boathouse while learning all about Maine's oysters!\n\n\n	Hands-on instruction with a half dozen oysters\n	Wine tasting & education on three wines that pair well\n\n$45 per person\n\nPurchase Tickets for Oyster Shucking Class at The Boathouse
X-ALT-DESC;FMTTYPE=text/html:<p><strong>Saturday\, February 8 at The Boathouse Waterfront Hotel + Restaurant | 2-3pm</strong><br />\n<br />\nPerfect your shucking skill at The Boathouse while learning all about Maine&rsquo\;s oysters!</p>\n\n<ul>\n	<li>Hands-on instruction with a half dozen oysters</li>\n	<li>Wine tasting &amp\; education on three wines that pair well</li>\n</ul>\n$45 per person<br />\n<a href="https://www.eventbrite.com/e/oyster-shucking-class-february-8-2020-tickets-85989441735"><span style="color:#B22222">Purchase Tickets for Oyster Shucking Class at The Boathouse</span></a>
LOCATION:The Boathouse 21 Ocean Avenue | Kennebunkport\, Maine
UID:e.1923.15593
SEQUENCE:3
DTSTAMP:20260424T101312Z
URL:https://chamber.gokennebunks.com/events/details/oyster-shucking-class-wine-tasting-02-08-2020-15593
END:VEVENT

END:VCALENDAR
