BEGIN:VCALENDAR
VERSION:2.0
PRODID:-//ChamberMaster//Event Calendar 2.0//EN
METHOD:PUBLISH
X-PUBLISHED-TTL:P3D
REFRESH-INTERVAL:P3D
CALSCALE:GREGORIAN
BEGIN:VEVENT
DTSTART;VALUE=DATE:20260123
DTEND;VALUE=DATE:20260124
TRANSP:TRANSPARENT
X-MICROSOFT-CDO-ALLDAYEVENT:TRUE
SUMMARY:Outdoor Winter Fun Days at School Around Us!
DESCRIPTION:Come over to School Around Us and join us for winter fun days!  We can't wait to spend this winter day out of doors with you! Given the shifting weather and ice quality\, we will design these winter days at the last minute\, but you can be sure we'll experience a lovely day together enjoying the outdoors. These days might include: Sledding\, Ice Skating\, Campfire Cooking\, Winter Fort Building\, or other activities!\n\n\n\nHomeschooling? This is a perfect day to join! This Community Day is open to all families with children ages 4-14.\n\n\n\n*Please note this is a mystery day\, depending on weather\, and learners should be prepared for all activities!\n\nWhat to Bring: Be prepared to be outside all day\, ice skates\, sled\, lunch & snacks\, water bottle and appropriate clothes for the weather.
X-ALT-DESC;FMTTYPE=text/html:<p>Come over to School Around Us and join us for winter fun days! &nbsp\;We can&rsquo\;t wait to spend this winter day out of doors with you! Given the shifting weather and ice quality\, we will design these winter days at the last minute\, but you can be sure we&rsquo\;ll experience a lovely day together enjoying the outdoors. These days might include: Sledding\, Ice Skating\, Campfire Cooking\, Winter Fort Building\, or other activities!<br />\n<br />\nHomeschooling? This is a perfect day to join! This Community Day is open to all families with children ages 4-14.<br />\n<br />\n<strong>*Please note this is a mystery day\, depending on weather\, and learners should be prepared for all activities!</strong></p>\n\n<p><strong>What to Bring:</strong>&nbsp\;Be prepared to be outside all day\, ice skates\, sled\, lunch &amp\; snacks\, water bottle and appropriate clothes for the weather.&nbsp\;</p>\n
LOCATION:School Around Us 281 Log Cabin Road Arundel\, ME
UID:e.1923.38355
SEQUENCE:3
DTSTAMP:20260421T180810Z
URL:https://chamber.gokennebunks.com/events/details/outdoor-winter-fun-days-at-school-around-us-01-23-2026-38355
END:VEVENT

END:VCALENDAR
