BEGIN:VCALENDAR
VERSION:2.0
PRODID:-//ChamberMaster//Event Calendar 2.0//EN
METHOD:PUBLISH
X-PUBLISHED-TTL:P3D
REFRESH-INTERVAL:P3D
CALSCALE:GREGORIAN
BEGIN:VEVENT
DTSTART:20230905T130000Z
DTEND:20230905T140000Z
X-MICROSOFT-CDO-ALLDAYEVENT:FALSE
SUMMARY:outdoor flow at vinegar hill
DESCRIPTION:"love to flow? join us once each month this season in the garden at our neighbor's vinegar hill. look forward to a one hour flow in the shade of the trees. more on sweat + flow: sweat + flow is our spin on a vinyasa/flow class. classes are set to music that will ebb and flow with your heart rate as we take you through breath work\, sun salutations\, yummy heart melting pose\, and everything in between. so come find your groove\, belt out a little Whitney Houston if it's in you and let your to-do list melt away as you carve out one hour just for you."
X-ALT-DESC;FMTTYPE=text/html:&quot\;love to flow? join us once each month this season in the garden at our neighbor&#39\;s vinegar hill. look forward to a one hour flow in the shade of the trees. more on sweat + flow: sweat + flow is our spin on a vinyasa/flow class. classes are set to music that will ebb and flow with your heart rate as we take you through breath work\, sun salutations\, yummy heart melting pose\, and everything in between. so come find your groove\, belt out a little Whitney Houston if it&#39\;s in you and let your to-do list melt away as you carve out one hour just for you.&quot\;
LOCATION:Vinegar Hill Music Theater 53 Old Post Rd. Arundel\, ME
UID:e.1923.22437
SEQUENCE:3
DTSTAMP:20260422T033914Z
URL:https://chamber.gokennebunks.com/events/details/outdoor-flow-at-vinegar-hill-22437
END:VEVENT

END:VCALENDAR
