BEGIN:VCALENDAR
VERSION:2.0
PRODID:-//ChamberMaster//Event Calendar 2.0//EN
METHOD:PUBLISH
X-PUBLISHED-TTL:P3D
REFRESH-INTERVAL:P3D
CALSCALE:GREGORIAN
BEGIN:VEVENT
DTSTART:20250612T213000Z
DTEND:20250612T223000Z
X-MICROSOFT-CDO-ALLDAYEVENT:FALSE
SUMMARY:OSHER LIFELONG LEARNING INSTITUTE INFORMATIONAL SESSION
DESCRIPTION:We are very excited to welcome members of OLLI (Osher Lifelong Learning Institute) to Graves Library on Thursday\, June 12\, at 5:30 PM to give us an overview of the upcoming courses and workshops offered at the University of Southern Maine campus in Portland. These courses are offered to anyone over the age of 50 with a curious mind and an interest in learning just for the joy of it. OLLI at USM is committed to providing its members with a wide variety of stimulating courses\, lectures\, workshops\, and complementary activities in a creative\, inclusive environment. The Louis T. Graves Memorial Public Library is located at 18 Maine Street\, Kennebunkport. For further information\, please call 207-967-2778 or visit our website at www.graveslibrary.org.
X-ALT-DESC;FMTTYPE=text/html:<span style="font-family:arial\,sans-serif">We are very excited to welcome members of OLLI (Osher Lifelong Learning Institute) to Graves Library on Thursday\, June 12\, at 5:30 PM to give us an overview of the upcoming courses and workshops offered at the University of Southern Maine campus in Portland. These courses are offered to anyone over the age of 50 with a curious mind and an interest in learning just for the joy of it. OLLI at USM is committed to providing its members with a wide variety of stimulating courses\, lectures\, workshops\, and complementary activities in a creative\, inclusive environment. The Louis T. Graves Memorial Public Library is located at 18 Maine Street\, Kennebunkport. For further information\, please call 207-967-2778 or visit our website at www.graveslibrary.org.</span>
LOCATION:The Louis T. Graves Memorial Public Library is located at 18 Maine Street\, Kennebunkport. For further information\, please call 207-967-2778 or visit our website at www.graveslibrary.org.
UID:e.1923.34946
SEQUENCE:3
DTSTAMP:20260421T062159Z
URL:https://chamber.gokennebunks.com/events/details/osher-lifelong-learning-institute-informational-session-34946
END:VEVENT

END:VCALENDAR
