BEGIN:VCALENDAR
VERSION:2.0
PRODID:-//ChamberMaster//Event Calendar 2.0//EN
METHOD:PUBLISH
X-PUBLISHED-TTL:P3D
REFRESH-INTERVAL:P3D
CALSCALE:GREGORIAN
BEGIN:VEVENT
DTSTART:20231213T230000Z
DTEND:20231214T010000Z
X-MICROSOFT-CDO-ALLDAYEVENT:FALSE
SUMMARY:Ornament Painting Workshop/For the Love of Food + Drink at Saltwater Farm
DESCRIPTION:Tickets must be purchased in advance!\n\nTicket price includes free appetizers and cash bar.\n\nJoin us at For the Love of Food + Drink at Saltwater Farm for an ornament painting workshop. Relax with friends and enjoy the spirit of the season. Make personalized ornaments to grace your tree or give as a gift.\n\nChoose from many different types of wooden & ceramic ornaments and even a dog bone for the pup (we can't forget about them.) Stencils\, ribbons\, glitter paint\, paint pens\, and much more will be available so you can make the snazziest\, most festive ornaments.\n\nDIY kits will also be available for purchase if you would like to make some more at home or give them for gifts. They make great stocking stuffers.\n\nTickets are $35 per person and includes your choice of two ornaments and all the painting supplies needed. Extra ornaments will be on hand for an additional charge if you would like to make more than two.
X-ALT-DESC;FMTTYPE=text/html:<p style="margin-left:0px\; margin-right:0px">Tickets must be purchased in advance!<br />\nTicket price includes free appetizers and cash bar.</p>\n\n<p style="margin-left:0px\; margin-right:0px">Join us at For the Love of Food + Drink at Saltwater Farm for an ornament painting workshop. Relax with friends and enjoy the spirit of the season. Make personalized ornaments to grace your tree or give as a gift.<br />\nChoose from many different types of wooden &amp\; ceramic ornaments and even a dog bone for the pup (we can&rsquo\;t forget about them.) Stencils\, ribbons\, glitter paint\, paint pens\, and much more will be available so you can make the snazziest\, most festive ornaments.<br />\nDIY kits will also be available for purchase if you would like to make some more at home or give them for gifts. They make great stocking stuffers.</p>\n\n<p style="margin-left:0px\; margin-right:0px">Tickets are $35 per person and includes your choice of two ornaments and all the painting supplies needed. Extra ornaments will be on hand for an additional charge if you would like to make more than two.</p>\n
LOCATION:For the Love of Food + Drink at Saltwater Farm 411 Post Road Wells\, ME
UID:e.1923.23083
SEQUENCE:3
DTSTAMP:20260421T233346Z
URL:https://chamber.gokennebunks.com/events/details/ornament-painting-workshop-for-the-love-of-food-drink-at-saltwater-farm-23083
END:VEVENT

END:VCALENDAR
