BEGIN:VCALENDAR
VERSION:2.0
PRODID:-//ChamberMaster//Event Calendar 2.0//EN
METHOD:PUBLISH
X-PUBLISHED-TTL:P3D
REFRESH-INTERVAL:P3D
CALSCALE:GREGORIAN
BEGIN:VEVENT
DTSTART:20231204T200000Z
DTEND:20231204T220000Z
X-MICROSOFT-CDO-ALLDAYEVENT:FALSE
SUMMARY:Ornament Painting at The Nonantum Resort
DESCRIPTION:Ornament Painting with River Tree Arts at The Nonantum Resort\n\nat The Nonantum Resort\, 95 Ocean Ave\, Kennebunkport\, Maine\n\nMonday\, December 4\, 3-5pm\n\nCelebrate the holiday season by painting your own unique ceramic ornament\, bisque fired by River Tree Arts! Participants will get to choose their own ornament and will have enough paint and supplies to create a wonderful piece of art that will last for years to come. Workshop led by Leah Payne\, hosted by River Tree Arts at The Nonantum Resort. $10 per ornament. The Nonantum Resort\, 95 Ocean Avenue\, Kennebunkport\n\n\n\nCost: $10 per ornament\n\nNo registration is required.
X-ALT-DESC;FMTTYPE=text/html:<h2><strong>Ornament Painting with River Tree Arts at The Nonantum Resort</strong></h2>\n\n<p>at The Nonantum Resort\, 95 Ocean Ave\, Kennebunkport\, Maine</p>\n\n<p>Monday\, December 4\, 3-5pm</p>\n\n<p>Celebrate the holiday season by painting your own unique ceramic ornament\, bisque fired by River Tree Arts! Participants will get to choose their own ornament and will have enough paint and supplies to create a wonderful piece of art that will last for years to come. Workshop led by Leah Payne\, hosted by River Tree Arts at The Nonantum Resort. $10 per ornament. The Nonantum Resort\, 95 Ocean Avenue\, Kennebunkport<br />\n<br />\nCost: $10 per ornament<br />\nNo registration is required.</p>\n
LOCATION:The Nonantum Resort\, 95 Ocean Ave\, Kennebunkport\, Maine
UID:e.1923.23132
SEQUENCE:3
DTSTAMP:20260421T221500Z
URL:https://chamber.gokennebunks.com/events/details/ornament-painting-at-the-nonantum-resort-23132
END:VEVENT

END:VCALENDAR
