BEGIN:VCALENDAR
VERSION:2.0
PRODID:-//ChamberMaster//Event Calendar 2.0//EN
METHOD:PUBLISH
X-PUBLISHED-TTL:P3D
REFRESH-INTERVAL:P3D
CALSCALE:GREGORIAN
BEGIN:VEVENT
DTSTART:20180804T203000Z
DTEND:20180804T213000Z
X-MICROSOFT-CDO-ALLDAYEVENT:FALSE
SUMMARY:Organ Concert
DESCRIPTION:KENNEBUNK ORGAN CONCERT Saturday\, August 4\, 4:30 p.m. Donations to Benefit Organ Restoration Fund GUEST ORGANIST: Amy Webb-Prosser\, former student of Ray Cornils (retired municipal organist of Portland)\, B.A. in music from The University of Vermont\, former organist at Sanford North Parish\, substitute organist at St. David's in Kennebunk\, presently music director at West Scarborough UMC. LOCATION: Kennebunk Baptist Church\, 77 Main Street (air conditioned sanctuary). FMI: 207-985-5921
X-ALT-DESC;FMTTYPE=text/html:KENNEBUNK ORGAN CONCERT Saturday\, August 4\, 4:30 p.m. Donations to Benefit Organ Restoration Fund GUEST ORGANIST: Amy Webb-Prosser\, former student of Ray Cornils (retired municipal organist of Portland)\, B.A. in music from The University of Vermont\, former organist at Sanford North Parish\, substitute organist at St. David&rsquo\;s in Kennebunk\, presently music director at West Scarborough UMC. LOCATION: Kennebunk Baptist Church\, 77 Main Street (air conditioned sanctuary). FMI: 207-985-5921
LOCATION:Kennebunk Baptist Church 77 Main St. Kennebunk\, ME
UID:e.1923.9969
SEQUENCE:3
DTSTAMP:20260425T115643Z
URL:https://chamber.gokennebunks.com/events/details/organ-concert-9969
END:VEVENT

END:VCALENDAR
