BEGIN:VCALENDAR
VERSION:2.0
PRODID:-//ChamberMaster//Event Calendar 2.0//EN
METHOD:PUBLISH
X-PUBLISHED-TTL:P3D
REFRESH-INTERVAL:P3D
CALSCALE:GREGORIAN
BEGIN:VEVENT
DTSTART:20200620T000000Z
DTEND:20200620T023000Z
X-MICROSOFT-CDO-ALLDAYEVENT:FALSE
SUMMARY:Opening Night with John Lloyd Young
DESCRIPTION:In his signature passionate and thrilling style\, Tony and Grammy Award winner John Lloyd Young interprets the spine-tingling\, soul-bearing showstoppers that shaped his earliest Broadway aspirations. With Tommy Faragher on piano\, Young sings from Jersey Boys\, The Wiz\, Chicago\, Hair\, Dreamgirls and more\, along with classics by legendary Broadway writers including Rodgers\, Hart\, Hammerstein\, and Loesser. John Lloyd Young is the Tony and Grammy award-winning star from the Original Broadway Cast of Jersey Boys as well as Clint Eastwood's Warner Bros. movie adaptation. Young is the only American actor to date to have received all four major Lead Actor honors in a Broadway musical: the Tony\, Drama Desk\, Outer Critics Circle\, and Theatre World Award.
X-ALT-DESC;FMTTYPE=text/html:In his signature passionate and thrilling style\, Tony and Grammy Award winner John Lloyd Young interprets the spine-tingling\, soul-bearing showstoppers that shaped his earliest Broadway aspirations. With Tommy Faragher on piano\, Young sings from Jersey Boys\, The Wiz\, Chicago\, Hair\, Dreamgirls and more\, along with classics by legendary Broadway writers including Rodgers\, Hart\, Hammerstein\, and Loesser. John Lloyd Young is the Tony and Grammy award-winning star from the Original Broadway Cast of Jersey Boys as well as Clint Eastwood&rsquo\;s Warner Bros. movie adaptation. Young is the only American actor to date to have received all four major Lead Actor honors in a Broadway musical: the Tony\, Drama Desk\, Outer Critics Circle\, and Theatre World Award.
LOCATION:Vinegar Hill Music Theatre 53 Old Post Rd Arundel\, ME 04046
UID:e.1923.15546
SEQUENCE:3
DTSTAMP:20260421T195733Z
URL:https://chamber.gokennebunks.com/events/details/opening-night-with-john-lloyd-young-15546
END:VEVENT

END:VCALENDAR
