BEGIN:VCALENDAR
VERSION:2.0
PRODID:-//ChamberMaster//Event Calendar 2.0//EN
METHOD:PUBLISH
X-PUBLISHED-TTL:P3D
REFRESH-INTERVAL:P3D
CALSCALE:GREGORIAN
BEGIN:VEVENT
DTSTART:20250626T200000Z
DTEND:20250626T220000Z
X-MICROSOFT-CDO-ALLDAYEVENT:FALSE
SUMMARY:Opening Night | The Bless Project
DESCRIPTION:Join us for the Opening Night of The Bless Project! We are so excited to formally introduce The Bless Project to the community with our Opening Night celebration! You will have the opportunity to experience the Blessing Booth\, participate in the Blessing Weaving\, and enjoy a glass of wine and some finger food. Celebrate the gifts of blessing with us!\n\n\n\nBless is a community focused project by South Congregational Church! "Bless" is a project to enable people from our church and community to understand the rich history and effective language of blessing and be able to offer blessings to one another. We aim to empower our congregation to bring the "joy and wonder" of our church community into a living and ongoing relationship with the lives of people in the Kennebunks.\n\n\n\nInterested in receiving a daily blessing? Visit southchurchucc.org/blessproject/ to sign-up for a daily blessing in your inbox June 1 through September 15.
X-ALT-DESC;FMTTYPE=text/html:<span style="font-family:arial\,helvetica\,sans-serif\; font-size:18px"><strong>Join us for the Opening Night of The Bless Project!&nbsp\;</strong></span><strong><span style="font-family:arial\,helvetica\,sans-serif"><span style="font-size:18px">We are so excited to formally introduce The Bless Project to the community with our Opening Night celebration! You will have the opportunity to experience the Blessing Booth\, participate in the Blessing Weaving\, and enjoy a glass of wine and some finger food. Celebrate the gifts of blessing with us!</span></span></strong><br />\n<br />\n<span style="font-family:arial\,helvetica\,sans-serif\; font-size:14px">Bless is a community focused project by South Congregational Church! &ldquo\;Bless&rdquo\; is a project to enable people from our church and community to understand the rich history and effective language of blessing and be able to offer blessings to one another. We aim to empower our congregation to bring the &ldquo\;joy and wonder&rdquo\; of our church community into a living and ongoing relationship with the lives of people in the Kennebunks.</span><br />\n<br />\n<span style="font-family:arial\,helvetica\,sans-serif\; font-size:14px">Interested in receiving a daily blessing? Visit&nbsp\;</span><a href="http://southchurchucc.org/blessproject/" style="font-family: arial\, helvetica\, sans-serif\; font-size: 14px\;">southchurchucc.org/blessproject/</a><span style="font-family:arial\,helvetica\,sans-serif\; font-size:14px">&nbsp\;to sign-up for a daily blessing in your inbox June 1 through September 15.</span>
LOCATION:The Community House | 8 Temple St.\, Kennebunkport
UID:e.1923.36534
SEQUENCE:3
DTSTAMP:20260421T061238Z
URL:https://chamber.gokennebunks.com/events/details/opening-night-the-bless-project-36534
END:VEVENT

END:VCALENDAR
