BEGIN:VCALENDAR
VERSION:2.0
PRODID:-//ChamberMaster//Event Calendar 2.0//EN
METHOD:PUBLISH
X-PUBLISHED-TTL:P3D
REFRESH-INTERVAL:P3D
CALSCALE:GREGORIAN
BEGIN:VEVENT
DTSTART:20190404T213000Z
DTEND:20190404T230000Z
X-MICROSOFT-CDO-ALLDAYEVENT:FALSE
SUMMARY:Open House: Solar and Furniture!
DESCRIPTION:Come by Huston & Company's showroom anytime from 5:30   7 PM for refreshments\, solar array tours\, and beautiful furniture. A solar professional from ReVision Energy will be on hand to answer any questions\, and representatives from Huston & Co. will be there to talk about their journey to solar power. This event is free and open to the public but please register below. For more information please contact Jill at jmclaughlin@revisionenergy.com
X-ALT-DESC;FMTTYPE=text/html:Come by Huston &amp\; Company&rsquo\;s showroom anytime from 5:30 &ndash\; 7 PM for refreshments\, solar array tours\, and beautiful furniture. A solar professional from ReVision Energy will be on hand to answer any questions\, and representatives from Huston &amp\; Co. will be there to talk about their journey to solar power. This event is free and open to the public but please register below. For more information please contact Jill at jmclaughlin@revisionenergy.com
LOCATION:Huston & Company 226 Log Cabin Road Kennebunkport\, ME 04046
UID:e.1923.13118
SEQUENCE:3
DTSTAMP:20260424T222917Z
URL:https://chamber.gokennebunks.com/events/details/open-house-solar-and-furniture-13118
END:VEVENT

END:VCALENDAR
