BEGIN:VCALENDAR
VERSION:2.0
PRODID:-//ChamberMaster//Event Calendar 2.0//EN
METHOD:PUBLISH
X-PUBLISHED-TTL:P3D
REFRESH-INTERVAL:P3D
CALSCALE:GREGORIAN
BEGIN:VEVENT
DTSTART:20250208T160000Z
DTEND:20250208T180000Z
X-MICROSOFT-CDO-ALLDAYEVENT:FALSE
SUMMARY:Open House for 8th Graders and High Schoolers
DESCRIPTION:Looking for an alternative education program for your high school learner? Would your teenager thrive in a safe space for learning\, where they have the freedom to be themself? The New School in Kennebunk is holding an Open House for families of prospective students entering high school or transferring from high schools. \n\n\n\nIf you have a student entering 9th grade\, are thinking about transferring\, or want to explore our homeschooling partnership program\, you are invited to join us on Saturday\, February 8\, at 11 am for information sessions\, tours\, and a Q&A panel for families.
X-ALT-DESC;FMTTYPE=text/html:Looking for an alternative education program for your high school learner? Would your teenager thrive in a safe space for learning\, where they have the freedom to be themself? The New School in Kennebunk is holding an Open House for families of prospective students entering high school or transferring from high schools.&nbsp\;<br />\n<br />\nIf you have a student entering 9th grade\, are thinking about transferring\, or want to explore our homeschooling partnership program\, you are invited to join us on Saturday\, February 8\, at 11 am for information sessions\, tours\, and a Q&amp\;A panel for families.
LOCATION:38 York Street\, Kennebunk ME 04043
UID:e.1923.33111
SEQUENCE:3
DTSTAMP:20260421T003553Z
URL:https://chamber.gokennebunks.com/events/details/open-house-for-8th-graders-and-high-schoolers-33111
END:VEVENT

END:VCALENDAR
