BEGIN:VCALENDAR
VERSION:2.0
PRODID:-//ChamberMaster//Event Calendar 2.0//EN
METHOD:PUBLISH
X-PUBLISHED-TTL:P3D
REFRESH-INTERVAL:P3D
CALSCALE:GREGORIAN
BEGIN:VEVENT
DTSTART:20170930T160000Z
DTEND:20170930T180000Z
X-MICROSOFT-CDO-ALLDAYEVENT:FALSE
SUMMARY:Open House
DESCRIPTION:Zen Academy Martial Arts is excited to announce an open house prior to the start of our fall session classes! Stop by and view the studio\, ask questions\, and register for classes.
X-ALT-DESC;FMTTYPE=text/html:Zen Academy Martial Arts is excited to announce an open house prior to the start of our fall session classes! Stop by and view the studio\, ask questions\, and register for classes.
LOCATION:The Connected Soul\, 36 Main Street Kennebunk ME 04043
UID:e.1923.6936
SEQUENCE:3
DTSTAMP:20260426T022756Z
URL:https://chamber.gokennebunks.com/events/details/open-house-6936
END:VEVENT

END:VCALENDAR
