BEGIN:VCALENDAR
VERSION:2.0
PRODID:-//ChamberMaster//Event Calendar 2.0//EN
METHOD:PUBLISH
X-PUBLISHED-TTL:P3D
REFRESH-INTERVAL:P3D
CALSCALE:GREGORIAN
BEGIN:VEVENT
DTSTART:20250727T140000Z
DTEND:20250727T190000Z
X-MICROSOFT-CDO-ALLDAYEVENT:FALSE
SUMMARY:Open Farm Day at Black Rock Farm
DESCRIPTION:Join us at Blackrock Farm on Sunday\, July 27 for Maine's annual Open Farm Day   a statewide celebration of local agriculture and community.\n\nJoin us on the farm in Kennebunkport for a relaxed\, family-friendly day focused on what makes Blackrock so special. Explore the garden with a round of interactive Crop Bingo\, browse our farm stand full of seasonal produce\, pick up inspiration with take-home recipe cards featuring fresh herbs and vegetables\, and more! \n\nLearn more about our farm-grown events and discover simple ways to support local all season long. Whether you stay for five minutes or all day long\, we're excited to welcome you to the farm!
X-ALT-DESC;FMTTYPE=text/html:<p>Join us at Blackrock Farm on Sunday\, July 27 for Maine&rsquo\;s annual Open Farm Day &mdash\; a statewide celebration of local agriculture and community.</p>\n\n<p>Join us on the farm in Kennebunkport for a relaxed\, family-friendly day focused on what makes Blackrock so special. Explore the garden with a round of interactive&nbsp\;Crop Bingo\, browse our&nbsp\;farm stand full of seasonal produce\, pick up&nbsp\;inspiration with take-home recipe cards&nbsp\;featuring fresh herbs and vegetables\, and more!&nbsp\;</p>\n\n<p>Learn more about our farm-grown events and discover simple ways to support local all season long. Whether you stay for five minutes or all day long\, we&rsquo\;re excited to welcome you to the farm!</p>\n
LOCATION:Blackrock Farm 293 Goose Rocks Road\, Kennebunkport\, ME 04046
UID:e.1923.35903
SEQUENCE:3
DTSTAMP:20260421T073327Z
URL:https://chamber.gokennebunks.com/events/details/open-farm-day-at-black-rock-farm-35903
END:VEVENT

END:VCALENDAR
