BEGIN:VCALENDAR
VERSION:2.0
PRODID:-//ChamberMaster//Event Calendar 2.0//EN
METHOD:PUBLISH
X-PUBLISHED-TTL:P3D
REFRESH-INTERVAL:P3D
CALSCALE:GREGORIAN
BEGIN:VEVENT
DTSTART:20180722T140000Z
DTEND:20180722T190000Z
X-MICROSOFT-CDO-ALLDAYEVENT:FALSE
SUMMARY:Open Farm Day
DESCRIPTION:Open Farm Day!  See the alpacas and shop in our farm store.  We have a small herd of alpacas for their soft\, warm\, and lightweight fiber - and just because we love them!  Stop by to feed carrots to the alpacas\, watch spinning and weaving demos by Southern Maine Guild of Spinners & Weavers members\, and browse the farm store.  We have yarns from our own alpacas spun at Maine fiber mills\, a limited selection of hand knit and hand woven alpaca and other items\, as well as a variety of alpaca products from co-ops\, fiber pools\, and commercial suppliers.  Can't make it?  We are open by chance and by appointment\, or visit our on-line store at www.pamelamas.com.
X-ALT-DESC;FMTTYPE=text/html:<span style="font-size:18px">Open Farm Day! &nbsp\;See the alpacas and shop in our farm store. &nbsp\;We have a small herd of alpacas for their soft\, warm\, and lightweight fiber - and just because we love them! &nbsp\;Stop by to feed carrots to the alpacas\, watch spinning and weaving demos by Southern Maine Guild of Spinners &amp\; Weavers members\, and browse the farm store. &nbsp\;We have yarns from our own alpacas spun at Maine fiber mills\, a limited selection of hand knit and hand woven alpaca and other items\, as well as a variety of alpaca products from co-ops\, fiber pools\, and commercial suppliers. &nbsp\;Can&#39\;t make it? &nbsp\;We are open by chance and by appointment\, or visit our on-line store at www.pamelamas.com. &nbsp\; &nbsp\; &nbsp\;&nbsp\;</span>
LOCATION:Pamelamas Alpaca Farm\, 233 Limerick Rd\, Arundel\, Maine
UID:e.1923.9900
SEQUENCE:3
DTSTAMP:20260425T132716Z
URL:https://chamber.gokennebunks.com/events/details/open-farm-day-07-22-2018-9900
END:VEVENT

END:VCALENDAR
