BEGIN:VCALENDAR
VERSION:2.0
PRODID:-//ChamberMaster//Event Calendar 2.0//EN
METHOD:PUBLISH
X-PUBLISHED-TTL:P3D
REFRESH-INTERVAL:P3D
CALSCALE:GREGORIAN
BEGIN:VEVENT
DTSTART:20190922T000000Z
DTEND:20190922T023000Z
X-MICROSOFT-CDO-ALLDAYEVENT:FALSE
SUMMARY:One Night in Memphis
DESCRIPTION:One Night in Memphis  created and directed by John Mueller is the number one booked and critically acclaimed tribute to legendary Sun Records recording artists Carl Perkins\, Johnny Cash\, Jerry Lee Lewis and Elvis Presley performed live and starring former cast members of the Broadway smash\, "Million Dollar Quartet." Over 90 minutes of authentic rockabilly\, country\, gospel and 1950's rock and roll. The San Francisco Examiner raves\, "An Amazing Show!" The show has an ever growing list of sold out performances\, outstanding reviews and a great social media presence and fan base. Be a witness to and experience rock and roll royalty with the music and talent that has stood the test of time. True American music featuring acclaimed national talent guaranteed to get you rocking and rolling. There's a whole lotta shakin' going on!
X-ALT-DESC;FMTTYPE=text/html:One Night in Memphis&reg\; created and directed by John Mueller is the number one booked and critically acclaimed tribute to legendary Sun Records recording artists Carl Perkins\, Johnny Cash\, Jerry Lee Lewis and Elvis Presley performed live and starring former cast members of the Broadway smash\, &ldquo\;Million Dollar Quartet.&rdquo\; Over 90 minutes of authentic rockabilly\, country\, gospel and 1950&rsquo\;s rock and roll. The San Francisco Examiner raves\, &ldquo\;An Amazing Show!&rdquo\; The show has an ever growing list of sold out performances\, outstanding reviews and a great social media presence and fan base. Be a witness to and experience rock and roll royalty with the music and talent that has stood the test of time. True American music featuring acclaimed national talent guaranteed to get you rocking and rolling. There&rsquo\;s a whole lotta shakin&rsquo\; going on!
LOCATION:Vinegar Hill Music Theatre 53 Old Post Rd. Arundel\, ME 04046
UID:e.1923.12850
SEQUENCE:3
DTSTAMP:20260424T153822Z
URL:https://chamber.gokennebunks.com/events/details/one-night-in-memphis-12850
END:VEVENT

END:VCALENDAR
