BEGIN:VCALENDAR
VERSION:2.0
PRODID:-//ChamberMaster//Event Calendar 2.0//EN
METHOD:PUBLISH
X-PUBLISHED-TTL:P3D
REFRESH-INTERVAL:P3D
CALSCALE:GREGORIAN
BEGIN:VEVENT
DTSTART;VALUE=DATE:20230720
DTEND;VALUE=DATE:20230820
TRANSP:TRANSPARENT
X-MICROSOFT-CDO-ALLDAYEVENT:TRUE
SUMMARY:On Your Feet! The Story of Emilio and Gloria Estefan
DESCRIPTION:The powerful true story of love\, Latin heritage\, and the inspiring music of a family whose humble beginnings traversed seemingly impossible boundaries to claim global superstardom.\n\nExperience the extraordinary lives of Emilio and Gloria Estefan in this all-new international production of On Your Feet! Fusing Cuban musical traditions with '80s and '90s high-energy pop rhythms\, this multimedia stage spectacle makes "the very air in the room vibrate" says The New York Times.\n\nSpotlighting the music of The Miami Sound Machine and Gloria's iconic solo career   "Conga\," "1-2-3\," "Rhythm is Gonna Get You\," "Get On Your Feet\," "Coming Out of the Dark"   their story paved the way for the Latin recording artists of today and cemented their place in music history.
X-ALT-DESC;FMTTYPE=text/html:<p>The powerful true story of love\, Latin heritage\, and the inspiring music of a family whose humble beginnings traversed seemingly impossible boundaries to claim global superstardom.</p>\n\n<p>Experience the extraordinary lives of Emilio and Gloria Estefan in this all-new international production of <em>On Your Feet!</em> Fusing Cuban musical traditions with &lsquo\;80s and &lsquo\;90s high-energy pop rhythms\, this multimedia stage spectacle makes &ldquo\;the very air in the room vibrate&rdquo\; says <em>The</em> <em>New York Times</em>.</p>\n\n<p>Spotlighting the music of The Miami Sound Machine and Gloria&rsquo\;s iconic solo career &mdash\; &ldquo\;Conga\,&rdquo\; &ldquo\;1-2-3\,&rdquo\; &ldquo\;Rhythm is Gonna Get You\,&rdquo\; &ldquo\;Get On Your Feet\,&rdquo\; &ldquo\;Coming Out of the Dark&rdquo\; &mdash\; their story paved the way for the Latin recording artists of today and cemented their place in music history.</p>\n
LOCATION:Ogunquit Playhouse 10 Main St Ogunquit\, ME 03907
UID:e.1923.18507
SEQUENCE:3
DTSTAMP:20260422T034256Z
URL:https://chamber.gokennebunks.com/events/details/on-your-feet-the-story-of-emilio-and-gloria-estefan-18507
END:VEVENT

END:VCALENDAR
