BEGIN:VCALENDAR
VERSION:2.0
PRODID:-//ChamberMaster//Event Calendar 2.0//EN
METHOD:PUBLISH
X-PUBLISHED-TTL:P3D
REFRESH-INTERVAL:P3D
CALSCALE:GREGORIAN
BEGIN:VEVENT
DTSTART:20231104T130000Z
DTEND:20231104T140000Z
X-MICROSOFT-CDO-ALLDAYEVENT:FALSE
SUMMARY:ON THE NIGHTSTAND - BOOK DISCUSSION GROUP
DESCRIPTION:Saturday\, November 4 at 9 AM. On the Nightstand   Book Discussion Group. Please join us on Saturday\, November 4 at 9:00 a.m. for some coffee and conversation. This group will meet in the Dow Room on the first Saturday of every month. Bring a book that is on your nightstand currently being read. During the hour\, we will share what we are reading and create a list for others to explore. We hope to see you here. This new program will become a monthly event starting in 2024....but let us get started now and see how it goes! The Louis T. Graves Memorial Public Library is located at 18 Maine Street\, Kennebunkport. For further information\, please call 967-2778 or visit our website at www.graveslibrary.org.
X-ALT-DESC;FMTTYPE=text/html:<span style="font-family:arial\,sans-serif">Saturday\, November 4 at 9 AM. <strong>On the Nightstand &ndash\; Book Discussion Group.</strong> Please join us on Saturday\, November 4 at 9:00 a.m. for some coffee and conversation. This group will meet in the Dow Room on the first Saturday of every month. Bring a book that is on your nightstand currently being read. During the hour\, we will share what we are reading and create a list for others to explore. We hope to see you here. This new program will become a monthly event starting in 2024....but let us get started now and see how it goes! </span><span style="font-family:arial\,sans-serif">The Louis T. Graves Memorial Public Library is located at 18 Maine Street\, Kennebunkport. For further information\, please call 967-2778 or visit our website at </span><a href="http://www.graveslibrary.org/"><span style="font-family:arial\,sans-serif">www.graveslibrary.org</span></a><span style="font-family:arial\,sans-serif">.</span>
LOCATION:Louis T. Graves Memorial Public Library\, 18 Maine Street\, Kennebunkport
UID:e.1923.23065
SEQUENCE:3
DTSTAMP:20260421T082430Z
URL:https://chamber.gokennebunks.com/events/details/on-the-nightstand-book-discussion-group-23065
END:VEVENT

END:VCALENDAR
