BEGIN:VCALENDAR
VERSION:2.0
PRODID:-//ChamberMaster//Event Calendar 2.0//EN
METHOD:PUBLISH
X-PUBLISHED-TTL:P3D
REFRESH-INTERVAL:P3D
CALSCALE:GREGORIAN
BEGIN:VEVENT
DTSTART:20240106T140000Z
DTEND:20240106T150000Z
X-MICROSOFT-CDO-ALLDAYEVENT:FALSE
SUMMARY:ON THE NIGHTSTAND - BOOK DISCUSSION GROUP
DESCRIPTION:Saturday\, January 6 at 9 AM. On the Nightstand   Book Discussion Group. Please join us on Saturday\, January 6 at 9:00 a.m. for some coffee and conversation. This group will meet in the Dow Room on the first Saturday of every month. Bring a book that is on your nightstand currently being read. During the hour\, we will share what we are reading and create a list for others to explore. We hope to see you here. The Louis T. Graves Memorial Public Library is located at 18 Maine Street\, Kennebunkport. For further information\, please call 967-2778 or visit our website at www.graveslibrary.org.
X-ALT-DESC;FMTTYPE=text/html:<span style="font-family:arial\,sans-serif">Saturday\, January 6 at 9 AM. <strong>On the Nightstand &ndash\; Book Discussion Group.</strong> Please join us on Saturday\, January 6 at 9:00 a.m. for some coffee and conversation. This group will meet in the Dow Room on the first Saturday of every month. Bring a book that is on your nightstand currently being read. During the hour\, we will share what we are reading and create a list for others to explore. We hope to see you here. </span><span style="font-family:arial\,sans-serif">The Louis T. Graves Memorial Public Library is located at 18 Maine Street\, Kennebunkport. For further information\, please call 967-2778 or visit our website at </span><a href="http://www.graveslibrary.org/"><span style="color:windowtext"><span style="font-family:arial\,sans-serif">www.graveslibrary.org</span></span></a><span style="font-family:arial\,sans-serif">.</span>
LOCATION:The Louis T. Graves Memorial Public Library is located at 18 Maine Street\, Kennebunkport. For further information\, please call 967-2778 or visit our website at www.graveslibrary.org.
UID:e.1923.23330
SEQUENCE:3
DTSTAMP:20260421T204806Z
URL:https://chamber.gokennebunks.com/events/details/on-the-nightstand-book-discussion-group-01-06-2024-23330
END:VEVENT

END:VCALENDAR
