BEGIN:VCALENDAR
VERSION:2.0
PRODID:-//ChamberMaster//Event Calendar 2.0//EN
METHOD:PUBLISH
X-PUBLISHED-TTL:P3D
REFRESH-INTERVAL:P3D
CALSCALE:GREGORIAN
BEGIN:VEVENT
DTSTART:20250725T140000Z
DTEND:20250725T170000Z
X-MICROSOFT-CDO-ALLDAYEVENT:FALSE
SUMMARY:OMAA Printmaking Workshop with Crystalle Lacouture at Chase's Garage
DESCRIPTION:Join artist and printmaker Crystalle Lacouture for a one day workshop to learn general information about different printmaking techniques and how to identify prints. She will briefly describe intaglio (etching\, engraving)\, lithography\, silkscreen\, and woodcut (relief printmaking) methods using reference materials and prints. Using examples of her recent woodblock prints\, Lacouture will demonstrate the techniques in her own works of woodcut\, jigsaw\, and multiple block printmaking. Following this overview and demonstration\, participants will create their own single color relief prints! We will learn how to transfer a drawing to a block (it must be reversed)\, simple carving techniques\, ink and color mixing\, and printing methods that include using the Chase's Garage etching press as well as a table top etching press. Each class member will leave with at least one relief print of their own making.
X-ALT-DESC;FMTTYPE=text/html:<span style="color:rgb(121\, 121\, 121)\; font-family:futura-pt\,helvetica\,arial\,sans-serif\; font-size:12px">Join artist and printmaker Crystalle Lacouture for a one day workshop to learn general information about different printmaking techniques and how to identify prints. She will briefly describe intaglio (etching\, engraving)\, lithography\, silkscreen\, and woodcut (relief printmaking) methods using reference materials and prints. Using examples of her recent woodblock prints\, Lacouture will demonstrate the techniques in her own works of woodcut\, jigsaw\, and multiple block printmaking. Following this overview and demonstration\, participants will create their own single color relief prints! We will learn how to transfer a drawing to a block (it must be reversed)\, simple carving techniques\, ink and color mixing\, and printing methods that include using the Chase&rsquo\;s Garage etching press as well as a table top etching press. Each class member will leave with at least one relief print of their own making.</span>
LOCATION:Chase's Garage\, 16 Main St.\, York\, Maine
UID:e.1923.37529
SEQUENCE:3
DTSTAMP:20260421T073922Z
URL:https://chamber.gokennebunks.com/events/details/omaa-printmaking-workshop-with-crystalle-lacouture-at-chase-s-garage-37529
END:VEVENT

END:VCALENDAR
